BEGIN:VCALENDAR
VERSION:2.0
PRODID:-//Shoreham Community Trust - ECPv6.5.0//NONSGML v1.0//EN
CALSCALE:GREGORIAN
METHOD:PUBLISH
X-ORIGINAL-URL:https://www.shorehamcentre.co.uk
X-WR-CALDESC:Events for Shoreham Community Trust
REFRESH-INTERVAL;VALUE=DURATION:PT1H
X-Robots-Tag:noindex
X-PUBLISHED-TTL:PT1H
BEGIN:VTIMEZONE
TZID:Europe/London
BEGIN:DAYLIGHT
TZOFFSETFROM:+0000
TZOFFSETTO:+0100
TZNAME:BST
DTSTART:20240331T010000
END:DAYLIGHT
BEGIN:STANDARD
TZOFFSETFROM:+0100
TZOFFSETTO:+0000
TZNAME:GMT
DTSTART:20241027T010000
END:STANDARD
END:VTIMEZONE
BEGIN:VEVENT
DTSTART;TZID=Europe/London:20240726T134500
DTEND;TZID=Europe/London:20240726T134500
DTSTAMP:20260424T195417
CREATED:20240625T112248Z
LAST-MODIFIED:20240627T081600Z
UID:6402-1722001500-1722001500@www.shorehamcentre.co.uk
SUMMARY:u3a Shoreham & Southwick: 'A Walk in the Park'
DESCRIPTION:An illustrated talk by Mike Scott Rumble \nFor ten years Mike headed up the policing of over ninety parks\, gardens\, cemeteries and open spaces in The Royal Borough of Kensington and Chelsea\, and The London Borough of Hammersmith and Fulham. The talk will look at the history of public parks\, the evolution of the ‘Parkie’ from Victorian times to a specialist policing unit. The talk will also include some of the amusing and unusual events encountered in that decade. Non-members welcome me the return of Alan Chalmers\, this time to give part 2 of his presentation on some of the fascinating inside stories at Wimbledon. \nNon-members welcome. \n£2 MEMBERS £3.50 NON-MEMBERS
URL:https://www.shorehamcentre.co.uk/event/u3a-shoreham-southwick-a-walk-in-the-park/
ATTACH;FMTTYPE=image/jpeg:https://www.shorehamcentre.co.uk/wp-content/uploads/2024/04/Image-for-Events-Website.jpg
ORGANIZER;CN="u3a":MAILTO:info@shorehamandsouthwicku3a.org.uk
END:VEVENT
BEGIN:VEVENT
DTSTART;TZID=Europe/London:20240628T134500
DTEND;TZID=Europe/London:20240628T134500
DTSTAMP:20260424T195417
CREATED:20240430T122411Z
LAST-MODIFIED:20240603T144012Z
UID:5600-1719582300-1719582300@www.shorehamcentre.co.uk
SUMMARY:u3a Shoreham & Southwick: 'Behind the Scenes at Centre Court'
DESCRIPTION:An illustrated talk: by Alan Chalmers \nThe u3a is delighted to welcome the return of Alan Chalmers\, this time to give part 2 of his presentation on some of the fascinating inside stories at Wimbledon. \nNon-members welcome. \n£2 MEMBERS £3.50 NON-MEMBERS
URL:https://www.shorehamcentre.co.uk/event/u3a-shoreham-southwick-marilyn-stafford-photographer/
ATTACH;FMTTYPE=image/jpeg:https://www.shorehamcentre.co.uk/wp-content/uploads/2024/04/Image-for-Events-Website.jpg
ORGANIZER;CN="u3a":MAILTO:info@shorehamandsouthwicku3a.org.uk
END:VEVENT
BEGIN:VEVENT
DTSTART;TZID=Europe/London:20240607T123000
DTEND;TZID=Europe/London:20240607T150000
DTSTAMP:20260424T195417
CREATED:20240508T084507Z
LAST-MODIFIED:20240508T084507Z
UID:5612-1717763400-1717772400@www.shorehamcentre.co.uk
SUMMARY:u3a Open Day
DESCRIPTION:Retired or no longer in full-time work? This is the big annual showcase for your local u3a. We run over fifty friendly groups from Arts to Walking\, Languages to Games. This is your opportunity to find out more\, to discover the benefits being a member\, and to explore new pursuits and pastimes.\nFREE ENTRY TO ALL
URL:https://www.shorehamcentre.co.uk/event/u3a-open-day-2/
ATTACH;FMTTYPE=image/jpeg:https://www.shorehamcentre.co.uk/wp-content/uploads/2024/05/TSC-promos-u3a-events-OPEN-DAY.jpg
ORGANIZER;CN="u3a":MAILTO:info@shorehamandsouthwicku3a.org.uk
END:VEVENT
END:VCALENDAR