BEGIN:VCALENDAR
VERSION:2.0
PRODID:-//Shoreham Community Trust - ECPv6.5.0//NONSGML v1.0//EN
CALSCALE:GREGORIAN
METHOD:PUBLISH
X-ORIGINAL-URL:https://www.shorehamcentre.co.uk
X-WR-CALDESC:Events for Shoreham Community Trust
REFRESH-INTERVAL;VALUE=DURATION:PT1H
X-Robots-Tag:noindex
X-PUBLISHED-TTL:PT1H
BEGIN:VTIMEZONE
TZID:Europe/London
BEGIN:DAYLIGHT
TZOFFSETFROM:+0000
TZOFFSETTO:+0100
TZNAME:BST
DTSTART:20240331T010000
END:DAYLIGHT
BEGIN:STANDARD
TZOFFSETFROM:+0100
TZOFFSETTO:+0000
TZNAME:GMT
DTSTART:20241027T010000
END:STANDARD
END:VTIMEZONE
BEGIN:VEVENT
DTSTART;TZID=Europe/London:20241108T190000
DTEND;TZID=Europe/London:20241108T190000
DTSTAMP:20260424T180039
CREATED:20241023T112513Z
LAST-MODIFIED:20241023T112723Z
UID:38106-1731092400-1731092400@www.shorehamcentre.co.uk
SUMMARY:Sussex Kelp Forest Rewilding Project ... How's It Going?
DESCRIPTION:Adur Green Party is delighted to be hosting an illustrated talk on this hugely influential project. \nEric and Catrine are a father and daughter team that runs Sussex Underwater – a community group promoting marine conservation by inspiring a love of local sea creatures. \nIn 2021\, through the work of people like Eric Smith (who highlighted the devastating and long-term ecosystem damage caused by bottom-towed fishing gear)\, Sussex implemented a ban on fishing trawlers directly off its coast. Now\, Eric and Catrine spend their time showcasing the extraordinary recovery already happening in Sussex Bay as a result of the ban\, and as featured in the BBC documentary: ‘Our Lives\, Our Seaforest’. \nDive into the depths of the Sussex coast with us on 8 November as we explore the Kelp Forest Rewilding Project with Catrine and Eric. However\, book soon as these talks are popular\, and places are limited. \nTickets are £5 to cover costs and remunerate the speakers.
URL:https://www.shorehamcentre.co.uk/event/sussex-kelp-forest-rewilding-project-hows-it-going/
ATTACH;FMTTYPE=image/png:https://www.shorehamcentre.co.uk/wp-content/uploads/2024/10/Kelp-Rest-Website-Image.png
END:VEVENT
END:VCALENDAR