BEGIN:VCALENDAR
VERSION:2.0
PRODID:-//Shoreham Community Trust - ECPv6.5.0//NONSGML v1.0//EN
CALSCALE:GREGORIAN
METHOD:PUBLISH
X-ORIGINAL-URL:https://www.shorehamcentre.co.uk
X-WR-CALDESC:Events for Shoreham Community Trust
REFRESH-INTERVAL;VALUE=DURATION:PT1H
X-Robots-Tag:noindex
X-PUBLISHED-TTL:PT1H
BEGIN:VTIMEZONE
TZID:Europe/London
BEGIN:DAYLIGHT
TZOFFSETFROM:+0000
TZOFFSETTO:+0100
TZNAME:BST
DTSTART:20230326T010000
END:DAYLIGHT
BEGIN:STANDARD
TZOFFSETFROM:+0100
TZOFFSETTO:+0000
TZNAME:GMT
DTSTART:20231029T010000
END:STANDARD
BEGIN:DAYLIGHT
TZOFFSETFROM:+0000
TZOFFSETTO:+0100
TZNAME:BST
DTSTART:20240331T010000
END:DAYLIGHT
BEGIN:STANDARD
TZOFFSETFROM:+0100
TZOFFSETTO:+0000
TZNAME:GMT
DTSTART:20241027T010000
END:STANDARD
END:VTIMEZONE
BEGIN:VEVENT
DTSTART;TZID=Europe/London:20240609T150000
DTEND;TZID=Europe/London:20240609T150000
DTSTAMP:20260424T221632
CREATED:20240509T102226Z
LAST-MODIFIED:20240509T102226Z
UID:5629-1717945200-1717945200@www.shorehamcentre.co.uk
SUMMARY:Shoreham Singers & Ditchling Singers present: The Songs of Burt Bacharach
DESCRIPTION:Featuring the talents of Mike Hatchard\, Julie Roberts\, Nils Solberg\, Oz Dechaine\, Harry Whitty\, Shoreham Singers by Sea and the Ditchling Singers \n  \nTickets from WEGOTTICKETS.com or The Art Gallery\, 27th Brunswick Road\, Shoreham by Sea\, BN43 5WA
URL:https://www.shorehamcentre.co.uk/event/shoreham-singers-ditchling-singers-present-the-songs-of-burt-bacharach/
ATTACH;FMTTYPE=image/jpeg:https://www.shorehamcentre.co.uk/wp-content/uploads/2024/05/Shoreham-Singers-June-24.jpg
END:VEVENT
BEGIN:VEVENT
DTSTART;TZID=Europe/London:20230514T150000
DTEND;TZID=Europe/London:20230514T150000
DTSTAMP:20260424T221632
CREATED:20230403T132025Z
LAST-MODIFIED:20230403T132025Z
UID:5057-1684076400-1684076400@www.shorehamcentre.co.uk
SUMMARY:Shoreham Singers By Sea present : An afternoon with Cole Porter
DESCRIPTION:Mike Hatchard \nJulie Roberts \nBobby Worth \nNils Solberg \nKate Daniels \nCharlotte Glasson \nShoreham Singers By Sea \nTickets: online www.wegottickets.com/event/576549 \nThe Art Gallery\, 27 Brunswick Road Shoreham by Sea BN43 5WU or on the door \n£12 concessions £10
URL:https://www.shorehamcentre.co.uk/event/shoreham-singers-by-sea-present-an-afternoon-with-cole-porter/
ATTACH;FMTTYPE=image/jpeg:https://www.shorehamcentre.co.uk/wp-content/uploads/2023/04/Shoreham-Singers-By-Sea-Concert-wEBSITE-iMAGE.jpg
END:VEVENT
END:VCALENDAR