BEGIN:VCALENDAR
VERSION:2.0
PRODID:-//Shoreham Community Trust - ECPv6.5.0//NONSGML v1.0//EN
CALSCALE:GREGORIAN
METHOD:PUBLISH
X-ORIGINAL-URL:https://www.shorehamcentre.co.uk
X-WR-CALDESC:Events for Shoreham Community Trust
REFRESH-INTERVAL;VALUE=DURATION:PT1H
X-Robots-Tag:noindex
X-PUBLISHED-TTL:PT1H
BEGIN:VTIMEZONE
TZID:Europe/London
BEGIN:DAYLIGHT
TZOFFSETFROM:+0000
TZOFFSETTO:+0100
TZNAME:BST
DTSTART:20210328T010000
END:DAYLIGHT
BEGIN:STANDARD
TZOFFSETFROM:+0100
TZOFFSETTO:+0000
TZNAME:GMT
DTSTART:20211031T010000
END:STANDARD
BEGIN:DAYLIGHT
TZOFFSETFROM:+0000
TZOFFSETTO:+0100
TZNAME:BST
DTSTART:20220327T010000
END:DAYLIGHT
BEGIN:STANDARD
TZOFFSETFROM:+0100
TZOFFSETTO:+0000
TZNAME:GMT
DTSTART:20221030T010000
END:STANDARD
END:VTIMEZONE
BEGIN:VEVENT
DTSTART;TZID=Europe/London:20221028T090000
DTEND;TZID=Europe/London:20221029T180000
DTSTAMP:20260424T104553
CREATED:20220816T134312Z
LAST-MODIFIED:20220907T123126Z
UID:4607-1666947600-1667066400@www.shorehamcentre.co.uk
SUMMARY:The Big Draw Event
DESCRIPTION:The Big Draw Event \nBookings for these workshops are open now.\nPlease\, call 01273-454686 or email us on info@shorehamcentre.co.uk
URL:https://www.shorehamcentre.co.uk/event/the-big-draw-event/
LOCATION:Shoreham Centre\, 2 Pond Road\, Shoreham-by-Sea\, West-Sussex\, BN43 5WU\, United Kingdom
ATTACH;FMTTYPE=image/jpeg:https://www.shorehamcentre.co.uk/wp-content/uploads/2022/08/Althea-McNish-poster-final-version-scaled.jpg
END:VEVENT
BEGIN:VEVENT
DTSTART;TZID=Europe/London:20220826T140000
DTEND;TZID=Europe/London:20220826T160000
DTSTAMP:20260424T104553
CREATED:20220823T111151Z
LAST-MODIFIED:20220830T072636Z
UID:4630-1661522400-1661529600@www.shorehamcentre.co.uk
SUMMARY:ARTiculate
DESCRIPTION:Come along for an afternoon of lively debate on art and artists led by \nTim Gwyther \nPLEASE BOOK BEFORE ATTENDING AS PLACES ARE LIMITED \nPrice £7 \ntim.gwyther@btinternet.com \n  \n 
URL:https://www.shorehamcentre.co.uk/event/articulate/
LOCATION:Shoreham Centre\, 2 Pond Road\, Shoreham-by-Sea\, West-Sussex\, BN43 5WU\, United Kingdom
ATTACH;FMTTYPE=image/jpeg:https://www.shorehamcentre.co.uk/wp-content/uploads/2022/08/ARTiculate.-jpg-scaled.jpg
END:VEVENT
BEGIN:VEVENT
DTSTART;TZID=Europe/London:20220618T090000
DTEND;TZID=Europe/London:20220709T160000
DTSTAMP:20260424T104553
CREATED:20220608T114955Z
LAST-MODIFIED:20220608T120948Z
UID:4489-1655542800-1657382400@www.shorehamcentre.co.uk
SUMMARY:Melvyn Biddulph
DESCRIPTION:Exhibition of new paintings. \n18th June to 9th July \nAt the Skyway Gallery\, Shoreham Centre\, Ham Road.
URL:https://www.shorehamcentre.co.uk/event/melvyn-biddulph/
LOCATION:Shoreham Centre\, 2 Pond Road\, Shoreham-by-Sea\, West-Sussex\, BN43 5WU\, United Kingdom
CATEGORIES:Exhibitions
END:VEVENT
BEGIN:VEVENT
DTSTART;TZID=Europe/London:20220601T140000
DTEND;TZID=Europe/London:20220615T160000
DTSTAMP:20260424T104553
CREATED:20220608T111109Z
LAST-MODIFIED:20220608T111109Z
UID:4484-1654092000-1655308800@www.shorehamcentre.co.uk
SUMMARY:Singing for wellbeing
DESCRIPTION:Discover the wellbeing benefits of singing part of this supportive and inclusive course. Singing can help to lower stress\, boost immunity and lung function\, enhance memory and improve mental health. This course is for anyone wanting to discover their singing voice\, join with others in harmony and have fun making music! Everyone is welcome from complete beginners to experienced singers and the Soundcastle facilitators will take care to include all abilities. \nThis is a Soundcastle music and health course delivered in partnership with Sussex Recovery College. \nLearning outcomes \nStudents will: \nUse singing to engage with the 5 ways to wellbeing. \nUnderstand how regular singing can help lower anxiety and help us stay in the moment. \nConnect with a local music and mental health community. \nPlease apply on line. \nWednesdays\, 3 week course; 1st\, 8th and 15th June 2022.
URL:https://www.shorehamcentre.co.uk/event/singing-for-wellbeing/
LOCATION:Shoreham Centre\, 2 Pond Road\, Shoreham-by-Sea\, West-Sussex\, BN43 5WU\, United Kingdom
ATTACH;FMTTYPE=image/png:https://www.shorehamcentre.co.uk/wp-content/uploads/2022/06/sussex-recovery-colleg.png
END:VEVENT
BEGIN:VEVENT
DTSTART;TZID=Europe/London:20220528T160000
DTEND;TZID=Europe/London:20220528T190000
DTSTAMP:20260424T104553
CREATED:20220407T085519Z
LAST-MODIFIED:20220407T085537Z
UID:4459-1653753600-1653764400@www.shorehamcentre.co.uk
SUMMARY:Dinkie Flowers 101 Birthday Party
DESCRIPTION:Come and celebrate Dinkie’s amazing life and 101th Birthday. \n  \n 
URL:https://www.shorehamcentre.co.uk/event/dinkie-flowers-101-birthday-party/
LOCATION:Shoreham Centre\, 2 Pond Road\, Shoreham-by-Sea\, West-Sussex\, BN43 5WU\, United Kingdom
ATTACH;FMTTYPE=image/jpeg:https://www.shorehamcentre.co.uk/wp-content/uploads/2022/04/Dinkie-Poster-scaled.jpg
END:VEVENT
BEGIN:VEVENT
DTSTART;TZID=Europe/London:20211231T080000
DTEND;TZID=Europe/London:20211231T170000
DTSTAMP:20260424T104553
CREATED:20211231T160050Z
LAST-MODIFIED:20211231T160106Z
UID:4371-1640937600-1640970000@www.shorehamcentre.co.uk
SUMMARY:Transport Fair
DESCRIPTION:Shoreham Transport Fair – Home | Facebook
URL:https://www.shorehamcentre.co.uk/event/transport-fair/
LOCATION:Shoreham Centre\, 2 Pond Road\, Shoreham-by-Sea\, West-Sussex\, BN43 5WU\, United Kingdom
END:VEVENT
BEGIN:VEVENT
DTSTART;TZID=Europe/London:20211210T153000
DTEND;TZID=Europe/London:20211210T203000
DTSTAMP:20260424T104553
CREATED:20211124T123613Z
LAST-MODIFIED:20211124T123613Z
UID:4247-1639150200-1639168200@www.shorehamcentre.co.uk
SUMMARY:Light Up Shoreham
DESCRIPTION:We are delighted once again to be a part of Light Up Shoreham Organised by Adur and Worthing Council. \nA magical festive evening of shopping and live entertainment\, light installations\, fairground rides\, craft sessions\, carol singing and delicious food and drink! \nWe will have a number of lovely stalls inside the Centre selling Christmas goodies to compliment those on East Street and Pond Road.
URL:https://www.shorehamcentre.co.uk/event/light-up-shoreham/
LOCATION:Shoreham Centre\, 2 Pond Road\, Shoreham-by-Sea\, West-Sussex\, BN43 5WU\, United Kingdom
ATTACH;FMTTYPE=image/jpeg:https://www.shorehamcentre.co.uk/wp-content/uploads/2021/11/Light-Up-Shoreham.jpg
END:VEVENT
BEGIN:VEVENT
DTSTART;TZID=Europe/London:20211202T090000
DTEND;TZID=Europe/London:20211202T120000
DTSTAMP:20260424T104553
CREATED:20211124T124932Z
LAST-MODIFIED:20211124T125526Z
UID:4250-1638435600-1638446400@www.shorehamcentre.co.uk
SUMMARY:Wednesday Market
DESCRIPTION:Come along on Wednesday mornings to our established indoor table top market selling an eclectic mix of old and new. \nFrom antiques to toys from gifts to eggs\, you are sure to find something you like. \nWe currently have a wonderful mix of stalls selling Christmas Cards\, Decorations and Gifts. \n  \n 
URL:https://www.shorehamcentre.co.uk/event/wednesday-market/2021-12-02/
LOCATION:Shoreham Centre\, 2 Pond Road\, Shoreham-by-Sea\, West-Sussex\, BN43 5WU\, United Kingdom
ATTACH;FMTTYPE=image/jpeg:https://www.shorehamcentre.co.uk/wp-content/uploads/2021/11/WM-POSTER-2-scaled-e1637758514149.jpg
END:VEVENT
END:VCALENDAR