BEGIN:VCALENDAR
VERSION:2.0
PRODID:-//Shoreham Community Trust - ECPv6.5.0//NONSGML v1.0//EN
CALSCALE:GREGORIAN
METHOD:PUBLISH
X-WR-CALNAME:Shoreham Community Trust
X-ORIGINAL-URL:https://www.shorehamcentre.co.uk
X-WR-CALDESC:Events for Shoreham Community Trust
REFRESH-INTERVAL;VALUE=DURATION:PT1H
X-Robots-Tag:noindex
X-PUBLISHED-TTL:PT1H
BEGIN:VTIMEZONE
TZID:Europe/London
BEGIN:DAYLIGHT
TZOFFSETFROM:+0000
TZOFFSETTO:+0100
TZNAME:BST
DTSTART:20210328T010000
END:DAYLIGHT
BEGIN:STANDARD
TZOFFSETFROM:+0100
TZOFFSETTO:+0000
TZNAME:GMT
DTSTART:20211031T010000
END:STANDARD
BEGIN:DAYLIGHT
TZOFFSETFROM:+0000
TZOFFSETTO:+0100
TZNAME:BST
DTSTART:20220327T010000
END:DAYLIGHT
BEGIN:STANDARD
TZOFFSETFROM:+0100
TZOFFSETTO:+0000
TZNAME:GMT
DTSTART:20221030T010000
END:STANDARD
BEGIN:DAYLIGHT
TZOFFSETFROM:+0000
TZOFFSETTO:+0100
TZNAME:BST
DTSTART:20230326T010000
END:DAYLIGHT
BEGIN:STANDARD
TZOFFSETFROM:+0100
TZOFFSETTO:+0000
TZNAME:GMT
DTSTART:20231029T010000
END:STANDARD
BEGIN:DAYLIGHT
TZOFFSETFROM:+0000
TZOFFSETTO:+0100
TZNAME:BST
DTSTART:20240331T010000
END:DAYLIGHT
BEGIN:STANDARD
TZOFFSETFROM:+0100
TZOFFSETTO:+0000
TZNAME:GMT
DTSTART:20241027T010000
END:STANDARD
END:VTIMEZONE
BEGIN:VEVENT
DTSTART;TZID=Europe/London:20241214T130000
DTEND;TZID=Europe/London:20241214T143000
DTSTAMP:20260422T102607
CREATED:20241204T125045Z
LAST-MODIFIED:20241204T125217Z
UID:38498-1734181200-1734186600@www.shorehamcentre.co.uk
SUMMARY:Harmonessence Winter Show '24
DESCRIPTION:An afternoon of wonderful music performed by some of the greatest choirs in Sussex. \nFeaturing a live 3-piece band. \nTickets £8\, £5 Concessions. \nBook online: www.harmonessence.co.uk \n 
URL:https://www.shorehamcentre.co.uk/event/harmonessence-winter-show-24/
LOCATION:Shoreham Centre\, 2 Pond Road\, Shoreham-by-Sea\, West-Sussex\, BN43 5WU\, United Kingdom
ATTACH;FMTTYPE=image/jpeg:https://www.shorehamcentre.co.uk/wp-content/uploads/2024/12/Harmonessence-Christmas-14-Dec-2024.jpg
END:VEVENT
BEGIN:VEVENT
DTSTART;TZID=Europe/London:20241207T100000
DTEND;TZID=Europe/London:20241207T153000
DTSTAMP:20260422T102607
CREATED:20241120T140647Z
LAST-MODIFIED:20241120T141258Z
UID:38461-1733565600-1733585400@www.shorehamcentre.co.uk
SUMMARY:Paper Daisy - Christmas Makers Fair
DESCRIPTION:Discover 45+ original makers\, artists and foodies at each curated event. \nAdded attractions include wreath making workshops and children’s craft zone – see website for full details. \nFree Entry.
URL:https://www.shorehamcentre.co.uk/event/paper-daisy-christmas-makers-fair/
LOCATION:Shoreham Centre\, 2 Pond Road\, Shoreham-by-Sea\, West-Sussex\, BN43 5WU\, United Kingdom
ATTACH;FMTTYPE=image/jpeg:https://www.shorehamcentre.co.uk/wp-content/uploads/2024/11/Paper-Daisy-Christmas-Fairs-Dec-24.jpg
END:VEVENT
BEGIN:VEVENT
DTSTART;TZID=Europe/London:20241204T150000
DTEND;TZID=Europe/London:20241204T163000
DTSTAMP:20260422T102607
CREATED:20241118T120209Z
LAST-MODIFIED:20241118T120209Z
UID:38451-1733324400-1733329800@www.shorehamcentre.co.uk
SUMMARY:Winter Warmer - A Festive Celebration with Music and Singing
DESCRIPTION:Winter Warmer with Soundcastle and Sussex Recovery College \nA festive celebration with music and singing. \nWednesday 4th December 2024\, 3-4.30pm. \nEveryone welcome! \nContact Claudia if you’d like to join us: \nclaudia@soundcastle.co.uk \n07990 243660
URL:https://www.shorehamcentre.co.uk/event/winter-warmer-a-festive-celebration-with-music-and-singing/
LOCATION:Shoreham Centre\, 2 Pond Road\, Shoreham-by-Sea\, West-Sussex\, BN43 5WU\, United Kingdom
ATTACH;FMTTYPE=image/png:https://www.shorehamcentre.co.uk/wp-content/uploads/2024/11/Winter-Warmer-Poster-2024.png
END:VEVENT
BEGIN:VEVENT
DTSTART;TZID=Europe/London:20241129T131500
DTEND;TZID=Europe/London:20241129T160000
DTSTAMP:20260422T102607
CREATED:20241106T132921Z
LAST-MODIFIED:20241120T152009Z
UID:38373-1732886100-1732896000@www.shorehamcentre.co.uk
SUMMARY:U3A AGM Followed by talk 'Bruges - It's More Than Just Chocolate'
DESCRIPTION:ANNUAL GENERAL MEETING at 1.30pm (please arrive by 1.15pm) \nfollowed at 2.00pm (approx) by \nBruges – its more than just chocolate’ – a presentation by Melanie Gibson-Barton \nThe talk gives insight into another culture\,\nencompassing the history and geography\,\ntogether with all the modern aspects of the\nattractive city. For audience members that\nhave visited Bruges the talk will bring back\nmemories and will show that there is much\nmore to see in this city to inspire a return visit\nto explore in more depth.\nEven those who know Bruges well will feel\ninspired to visit again. “Our members are\nbooking their Tunnel crossings already!”\nreported a delighted host.\nNon-members welcome once the AGM has\nconcluded\n£2 MEMBERS\, £3.50 NON-MEMBERS\, (cash only\nplease)\, including tea and biscuits.
URL:https://www.shorehamcentre.co.uk/event/u3a-agm-followed-by-talk-bruges-its-more-than-just-chocolate/
LOCATION:Shoreham Centre\, 2 Pond Road\, Shoreham-by-Sea\, West-Sussex\, BN43 5WU\, United Kingdom
ATTACH;FMTTYPE=image/jpeg:https://www.shorehamcentre.co.uk/wp-content/uploads/2024/11/TSC-promos-u3a-events-TALK3.jpeg
END:VEVENT
BEGIN:VEVENT
DTSTART;TZID=Europe/London:20241126T190000
DTEND;TZID=Europe/London:20241126T210000
DTSTAMP:20260422T102607
CREATED:20241120T132526Z
LAST-MODIFIED:20241120T133224Z
UID:38456-1732647600-1732654800@www.shorehamcentre.co.uk
SUMMARY:Women in Hebron - Empowering Women Living Under Oppression
DESCRIPTION:Women in Hebron is a Palestinian non-profit cooperative for embroidery and handicrafts. \nCome and hear their story of steadfastness and empowerment to women. Support mothers\, wives and daughters to earn a living by buying their handmade handicrafts.  Bring a dish (optional)\, share worldly foods and enjoy community eating together. \nSchedule: \n7pm – Welcome intro with teas and coffees\n7.15pm – Story of Women in Hebron\n7.30pm – Daily life in the West Bank\n7.45pm – Q&A\n8pm – Women in Hebron handicrafts sale \nFree entry \n 
URL:https://www.shorehamcentre.co.uk/event/women-in-hebron-empowering-women-living-under-oppression/
LOCATION:Shoreham Centre\, 2 Pond Road\, Shoreham-by-Sea\, West-Sussex\, BN43 5WU\, United Kingdom
ATTACH;FMTTYPE=image/jpeg:https://www.shorehamcentre.co.uk/wp-content/uploads/2024/11/Women-in-Hebron-1.jpg
END:VEVENT
BEGIN:VEVENT
DTSTART;TZID=Europe/London:20241123T100000
DTEND;TZID=Europe/London:20241124T160000
DTSTAMP:20260422T102607
CREATED:20241118T115052Z
LAST-MODIFIED:20241120T154400Z
UID:38447-1732356000-1732464000@www.shorehamcentre.co.uk
SUMMARY:Adur Art Club Annual Exhibition
DESCRIPTION:Saturday 23rd and Sunday 24th November 2024 \nShoreham Centre\, Pond Road Shoreham \nFree entry. \nwww.adurartclub.co.uk
URL:https://www.shorehamcentre.co.uk/event/adur-art-club-annual-exhibition/
LOCATION:Shoreham Centre\, 2 Pond Road\, Shoreham-by-Sea\, West-Sussex\, BN43 5WU\, United Kingdom
ATTACH;FMTTYPE=image/jpeg:https://www.shorehamcentre.co.uk/wp-content/uploads/2024/11/AnnualExhibition_Dec24.jpg
END:VEVENT
BEGIN:VEVENT
DTSTART;TZID=Europe/London:20230909T110000
DTEND;TZID=Europe/London:20230909T160000
DTSTAMP:20260422T102607
CREATED:20230830T143520Z
LAST-MODIFIED:20230830T143520Z
UID:5254-1694257200-1694275200@www.shorehamcentre.co.uk
SUMMARY:Multi Cultural Festival
DESCRIPTION:
URL:https://www.shorehamcentre.co.uk/event/multi-cultural-festival/
LOCATION:Shoreham Centre\, 2 Pond Road\, Shoreham-by-Sea\, West-Sussex\, BN43 5WU\, United Kingdom
ATTACH;FMTTYPE=image/jpeg:https://www.shorehamcentre.co.uk/wp-content/uploads/2023/08/festival-23-adur-scaled.jpg
END:VEVENT
BEGIN:VEVENT
DTSTART;TZID=Europe/London:20230624T193000
DTEND;TZID=Europe/London:20230624T230000
DTSTAMP:20260422T102607
CREATED:20230510T131404Z
LAST-MODIFIED:20230510T131404Z
UID:5132-1687635000-1687647600@www.shorehamcentre.co.uk
SUMMARY:Sussex Voiceworks and Hangleton Brass Band  present  “BLUE SKIES” A SUMMER CONCERT
DESCRIPTION:Sussex Voiceworks and Hangleton Brass Band \npresent \n“BLUE SKIES” A SUMMER CONCERT \n  \nSee tickets on poster
URL:https://www.shorehamcentre.co.uk/event/sussex-voiceworks-and-hangleton-brass-band-present-blue-skies-a-summer-concert/
LOCATION:Shoreham Centre\, 2 Pond Road\, Shoreham-by-Sea\, West-Sussex\, BN43 5WU\, United Kingdom
ATTACH;FMTTYPE=image/jpeg:https://www.shorehamcentre.co.uk/wp-content/uploads/2023/05/Blue-Skies-poster-jpg-scaled.jpg
END:VEVENT
BEGIN:VEVENT
DTSTART;TZID=Europe/London:20230325T133000
DTEND;TZID=Europe/London:20230325T163000
DTSTAMP:20260422T102607
CREATED:20230123T144155Z
LAST-MODIFIED:20230123T144155Z
UID:4884-1679751000-1679761800@www.shorehamcentre.co.uk
SUMMARY:Skyway Gallery Workshop: Creative Bookmaking
DESCRIPTION:Artist Teacher Gallit Shaltiel will lead an introduction to a range of bookmaking methods.                                                                                                  Techniques include: folding zines\, pop-up pages\, sadle stitch and pamphlet binding.                                                                                                         Explore presentation and decorative extras like cut through sections\, collage\, origami envelopes and stamping.                                                              By the end of the workshop you would have created a range of individual small book samples. \nSuitable for 12yrs-adult                                                                                                                                                                                                    Beginners\, aspiring and professional artists \nTo book and pay please ring: 01273 454686
URL:https://www.shorehamcentre.co.uk/event/skyway-gallery-workshop-creative-bookmaking/
LOCATION:Shoreham Centre\, 2 Pond Road\, Shoreham-by-Sea\, West-Sussex\, BN43 5WU\, United Kingdom
ATTACH;FMTTYPE=image/jpeg:https://www.shorehamcentre.co.uk/wp-content/uploads/2023/01/Cropped-Image-for-Web-Bookmaking-Poster.jpg
END:VEVENT
BEGIN:VEVENT
DTSTART;TZID=Europe/London:20230311T133000
DTEND;TZID=Europe/London:20230311T223000
DTSTAMP:20260422T102607
CREATED:20230221T142802Z
LAST-MODIFIED:20230306T131525Z
UID:4956-1678541400-1678573800@www.shorehamcentre.co.uk
SUMMARY:International Women's Day 2023
DESCRIPTION:Celebrate International Women’s Day with us on Saturday 11th March.13.30-22.30 \nWe have a variety of workshops and an opening night on Gallit Shaltiel and the fabulous Simply Kate Bush performing. \nThe Workshops must be booked/paid for in advance and the Tickets for Kate Bush tribute band are only available in advance. via \nhttps://www.eventbrite.co.uk/e/the-simply-kate-bush-tribute-band-tickets-539164544667 \nAll genders welcome.
URL:https://www.shorehamcentre.co.uk/event/international-womens-day-2023/
LOCATION:Shoreham Centre\, 2 Pond Road\, Shoreham-by-Sea\, West-Sussex\, BN43 5WU\, United Kingdom
CATEGORIES:Exhibitions,Music,Workshops
ATTACH;FMTTYPE=image/jpeg:https://www.shorehamcentre.co.uk/wp-content/uploads/2023/02/International-womens-day-final-version-scaled.jpg
END:VEVENT
BEGIN:VEVENT
DTSTART;TZID=Europe/London:20230218T150000
DTEND;TZID=Europe/London:20230218T180000
DTSTAMP:20260422T102607
CREATED:20230123T143319Z
LAST-MODIFIED:20230123T143319Z
UID:4882-1676732400-1676743200@www.shorehamcentre.co.uk
SUMMARY:Skyway Workshop-Nesting Dolls
DESCRIPTION:…with Clare Roberts \nUnder Clare’s guidance you will: \nDecorate a set of nesting dolls taking inspiration from your favourite patterns. Each doll will represent something personal.                                              Take home a set of unique and personal dolls.                                                                                                                                                                Please bring inspiration from your life. \nAll materials included. \nTo book and pay call 01273 454686
URL:https://www.shorehamcentre.co.uk/event/skyway-workshop-nesting-dolls-2/
LOCATION:Shoreham Centre\, 2 Pond Road\, Shoreham-by-Sea\, West-Sussex\, BN43 5WU\, United Kingdom
ATTACH;FMTTYPE=image/jpeg:https://www.shorehamcentre.co.uk/wp-content/uploads/2023/01/Cropped-Image-for-Web-Nesting-Dolls.jpg
END:VEVENT
BEGIN:VEVENT
DTSTART;TZID=Europe/London:20230217T093000
DTEND;TZID=Europe/London:20230217T123000
DTSTAMP:20260422T102607
CREATED:20230123T143119Z
LAST-MODIFIED:20230123T143132Z
UID:4877-1676626200-1676637000@www.shorehamcentre.co.uk
SUMMARY:Skyway Workshop-Nesting Dolls
DESCRIPTION:…with Clare Roberts \nUnder Clare’s guidance you will: \nDecorate a set of nesting dolls taking inspiration from your favourite patterns. Each doll will represent something personal.                                              Take home a set of unique and personal dolls.                                                                                                                                                                Please bring inspiration from your life. \nAll materials included. \nTo book and pay call 01273 454686
URL:https://www.shorehamcentre.co.uk/event/skyway-workshop-nesting-dolls/
LOCATION:Shoreham Centre\, 2 Pond Road\, Shoreham-by-Sea\, West-Sussex\, BN43 5WU\, United Kingdom
ATTACH;FMTTYPE=image/jpeg:https://www.shorehamcentre.co.uk/wp-content/uploads/2023/01/Cropped-Image-for-Web-Nesting-Dolls.jpg
END:VEVENT
BEGIN:VEVENT
DTSTART;TZID=Europe/London:20221028T090000
DTEND;TZID=Europe/London:20221029T180000
DTSTAMP:20260422T102607
CREATED:20220816T134312Z
LAST-MODIFIED:20220907T123126Z
UID:4607-1666947600-1667066400@www.shorehamcentre.co.uk
SUMMARY:The Big Draw Event
DESCRIPTION:The Big Draw Event \nBookings for these workshops are open now.\nPlease\, call 01273-454686 or email us on info@shorehamcentre.co.uk
URL:https://www.shorehamcentre.co.uk/event/the-big-draw-event/
LOCATION:Shoreham Centre\, 2 Pond Road\, Shoreham-by-Sea\, West-Sussex\, BN43 5WU\, United Kingdom
ATTACH;FMTTYPE=image/jpeg:https://www.shorehamcentre.co.uk/wp-content/uploads/2022/08/Althea-McNish-poster-final-version-scaled.jpg
END:VEVENT
BEGIN:VEVENT
DTSTART;TZID=Europe/London:20220826T140000
DTEND;TZID=Europe/London:20220826T160000
DTSTAMP:20260422T102607
CREATED:20220823T111151Z
LAST-MODIFIED:20220830T072636Z
UID:4630-1661522400-1661529600@www.shorehamcentre.co.uk
SUMMARY:ARTiculate
DESCRIPTION:Come along for an afternoon of lively debate on art and artists led by \nTim Gwyther \nPLEASE BOOK BEFORE ATTENDING AS PLACES ARE LIMITED \nPrice £7 \ntim.gwyther@btinternet.com \n  \n 
URL:https://www.shorehamcentre.co.uk/event/articulate/
LOCATION:Shoreham Centre\, 2 Pond Road\, Shoreham-by-Sea\, West-Sussex\, BN43 5WU\, United Kingdom
ATTACH;FMTTYPE=image/jpeg:https://www.shorehamcentre.co.uk/wp-content/uploads/2022/08/ARTiculate.-jpg-scaled.jpg
END:VEVENT
BEGIN:VEVENT
DTSTART;TZID=Europe/London:20220618T090000
DTEND;TZID=Europe/London:20220709T160000
DTSTAMP:20260422T102607
CREATED:20220608T114955Z
LAST-MODIFIED:20220608T120948Z
UID:4489-1655542800-1657382400@www.shorehamcentre.co.uk
SUMMARY:Melvyn Biddulph
DESCRIPTION:Exhibition of new paintings. \n18th June to 9th July \nAt the Skyway Gallery\, Shoreham Centre\, Ham Road.
URL:https://www.shorehamcentre.co.uk/event/melvyn-biddulph/
LOCATION:Shoreham Centre\, 2 Pond Road\, Shoreham-by-Sea\, West-Sussex\, BN43 5WU\, United Kingdom
CATEGORIES:Exhibitions
END:VEVENT
BEGIN:VEVENT
DTSTART;TZID=Europe/London:20220601T140000
DTEND;TZID=Europe/London:20220615T160000
DTSTAMP:20260422T102607
CREATED:20220608T111109Z
LAST-MODIFIED:20220608T111109Z
UID:4484-1654092000-1655308800@www.shorehamcentre.co.uk
SUMMARY:Singing for wellbeing
DESCRIPTION:Discover the wellbeing benefits of singing part of this supportive and inclusive course. Singing can help to lower stress\, boost immunity and lung function\, enhance memory and improve mental health. This course is for anyone wanting to discover their singing voice\, join with others in harmony and have fun making music! Everyone is welcome from complete beginners to experienced singers and the Soundcastle facilitators will take care to include all abilities. \nThis is a Soundcastle music and health course delivered in partnership with Sussex Recovery College. \nLearning outcomes \nStudents will: \nUse singing to engage with the 5 ways to wellbeing. \nUnderstand how regular singing can help lower anxiety and help us stay in the moment. \nConnect with a local music and mental health community. \nPlease apply on line. \nWednesdays\, 3 week course; 1st\, 8th and 15th June 2022.
URL:https://www.shorehamcentre.co.uk/event/singing-for-wellbeing/
LOCATION:Shoreham Centre\, 2 Pond Road\, Shoreham-by-Sea\, West-Sussex\, BN43 5WU\, United Kingdom
ATTACH;FMTTYPE=image/png:https://www.shorehamcentre.co.uk/wp-content/uploads/2022/06/sussex-recovery-colleg.png
END:VEVENT
BEGIN:VEVENT
DTSTART;TZID=Europe/London:20220528T160000
DTEND;TZID=Europe/London:20220528T190000
DTSTAMP:20260422T102607
CREATED:20220407T085519Z
LAST-MODIFIED:20220407T085537Z
UID:4459-1653753600-1653764400@www.shorehamcentre.co.uk
SUMMARY:Dinkie Flowers 101 Birthday Party
DESCRIPTION:Come and celebrate Dinkie’s amazing life and 101th Birthday. \n  \n 
URL:https://www.shorehamcentre.co.uk/event/dinkie-flowers-101-birthday-party/
LOCATION:Shoreham Centre\, 2 Pond Road\, Shoreham-by-Sea\, West-Sussex\, BN43 5WU\, United Kingdom
ATTACH;FMTTYPE=image/jpeg:https://www.shorehamcentre.co.uk/wp-content/uploads/2022/04/Dinkie-Poster-scaled.jpg
END:VEVENT
BEGIN:VEVENT
DTSTART;TZID=Europe/London:20211231T080000
DTEND;TZID=Europe/London:20211231T170000
DTSTAMP:20260422T102607
CREATED:20211231T160050Z
LAST-MODIFIED:20211231T160106Z
UID:4371-1640937600-1640970000@www.shorehamcentre.co.uk
SUMMARY:Transport Fair
DESCRIPTION:Shoreham Transport Fair – Home | Facebook
URL:https://www.shorehamcentre.co.uk/event/transport-fair/
LOCATION:Shoreham Centre\, 2 Pond Road\, Shoreham-by-Sea\, West-Sussex\, BN43 5WU\, United Kingdom
END:VEVENT
BEGIN:VEVENT
DTSTART;TZID=Europe/London:20211210T153000
DTEND;TZID=Europe/London:20211210T203000
DTSTAMP:20260422T102607
CREATED:20211124T123613Z
LAST-MODIFIED:20211124T123613Z
UID:4247-1639150200-1639168200@www.shorehamcentre.co.uk
SUMMARY:Light Up Shoreham
DESCRIPTION:We are delighted once again to be a part of Light Up Shoreham Organised by Adur and Worthing Council. \nA magical festive evening of shopping and live entertainment\, light installations\, fairground rides\, craft sessions\, carol singing and delicious food and drink! \nWe will have a number of lovely stalls inside the Centre selling Christmas goodies to compliment those on East Street and Pond Road.
URL:https://www.shorehamcentre.co.uk/event/light-up-shoreham/
LOCATION:Shoreham Centre\, 2 Pond Road\, Shoreham-by-Sea\, West-Sussex\, BN43 5WU\, United Kingdom
ATTACH;FMTTYPE=image/jpeg:https://www.shorehamcentre.co.uk/wp-content/uploads/2021/11/Light-Up-Shoreham.jpg
END:VEVENT
BEGIN:VEVENT
DTSTART;TZID=Europe/London:20211202T090000
DTEND;TZID=Europe/London:20211202T120000
DTSTAMP:20260422T102607
CREATED:20211124T124932Z
LAST-MODIFIED:20211124T125526Z
UID:4250-1638435600-1638446400@www.shorehamcentre.co.uk
SUMMARY:Wednesday Market
DESCRIPTION:Come along on Wednesday mornings to our established indoor table top market selling an eclectic mix of old and new. \nFrom antiques to toys from gifts to eggs\, you are sure to find something you like. \nWe currently have a wonderful mix of stalls selling Christmas Cards\, Decorations and Gifts. \n  \n 
URL:https://www.shorehamcentre.co.uk/event/wednesday-market/2021-12-02/
LOCATION:Shoreham Centre\, 2 Pond Road\, Shoreham-by-Sea\, West-Sussex\, BN43 5WU\, United Kingdom
ATTACH;FMTTYPE=image/jpeg:https://www.shorehamcentre.co.uk/wp-content/uploads/2021/11/WM-POSTER-2-scaled-e1637758514149.jpg
END:VEVENT
END:VCALENDAR