BEGIN:VCALENDAR
VERSION:2.0
PRODID:-//Shoreham Community Trust - ECPv6.5.0//NONSGML v1.0//EN
CALSCALE:GREGORIAN
METHOD:PUBLISH
X-WR-CALNAME:Shoreham Community Trust
X-ORIGINAL-URL:https://www.shorehamcentre.co.uk
X-WR-CALDESC:Events for Shoreham Community Trust
REFRESH-INTERVAL;VALUE=DURATION:PT1H
X-Robots-Tag:noindex
X-PUBLISHED-TTL:PT1H
BEGIN:VTIMEZONE
TZID:Europe/London
BEGIN:DAYLIGHT
TZOFFSETFROM:+0000
TZOFFSETTO:+0100
TZNAME:BST
DTSTART:20230326T010000
END:DAYLIGHT
BEGIN:STANDARD
TZOFFSETFROM:+0100
TZOFFSETTO:+0000
TZNAME:GMT
DTSTART:20231029T010000
END:STANDARD
END:VTIMEZONE
BEGIN:VEVENT
DTSTART;TZID=Europe/London:20230224T193000
DTEND;TZID=Europe/London:20230224T193000
DTSTAMP:20260424T170728
CREATED:20230208T103536Z
LAST-MODIFIED:20230208T103755Z
UID:4943-1677267000-1677267000@www.shorehamcentre.co.uk
SUMMARY:Ropetackle Event: 'Follow the Money' Book Launch
DESCRIPTION:Tackle the Issues* \nPaul Johnson\, Director for the Institute for Fiscal Studies\, introduces his new book launch of “Follow The Money – How Much Does Britain Cost?” .  \nWhat is the truth about Britain’s finances? Join us at this important literary event\, featuring Paul Johnson and Professor Sasha Roseneil.  \nRopetackle Arts Centre is delighted to announce the visit on 24th February of Paul Johnson\, Director of the Institute of Fiscal Studies and one of the country’s leading economists\, to mark the publication (on 23rd February) of his book “Follow the Money” – his forensic examination of the way the state raises and spends £1 trillion of our money every year. \nPaul will show how bad politics has resulted in damaging policy decisions\, why taxes are rising to unprecedented levels\, and how we have neglected the young for too long. \nHe will also challenge us to recognise that there are no easy solutions and that we\, the electorate\, need to support politicians in making tough choices\, and the trade-offs that are the inevitable\, if rarely acknowledged\, prerequisite for good policy-making. \nPaul will be interviewed by Professor Sasha Roseneil\, Vice-Chancellor of Sussex University. Before her Sussex appointment in August 2022\, Professor Roseneil held posts as UCL’s first Pro-Provost for Equity and Inclusion and Executive Dean of the Faculty of Social and Historical Sciences\, and Executive Dean of the Faculty of Social Sciences at the University of Essex. \nPaul was brought up in Shoreham and attended King’s Manor School (now Shoreham Academy) and always draws a sell-out crowd at Ropetackle. The book\, published by Abacus at Hatchett UK\, will be in book shops from Saturday 25th March: however our partner\, City Books\, will be selling copies on the night\, which Paul will sign after the event. \nWhat they are saying about “Follow the Money”:  \nLaura Kuenssberg \nRead it\, absorb it\, and understand how the country works. \nRobert Peston \nThis is an important book by the economist who has set the terms of so much political debate over the past decade. If you want to understand why crazy politics routinely trumps economic rationality in government choices\, read this. \nPolly Toynbee \nFire and passion\, combined with the facts. Every politician should get a copy\, as the tales of short-sighted\, election-fixated\, cowardly decision-making are so depressing. And your way forward looks so blindingly sensible. \n  \n*Tackle the issues is a series of joint Ropetackle\, Wordfest and Sussex University events addressing important issues of our time.
URL:https://www.shorehamcentre.co.uk/event/ropetackle-event-follow-the-money-book-launch/
ATTACH;FMTTYPE=image/jpeg:https://www.shorehamcentre.co.uk/wp-content/uploads/2023/02/Paul-Johnson-2023-Plus-Prof-Sasha-Roseneil.jpg
ORGANIZER;CN="Ropetackle Arts Centre":MAILTO:admin@ropetacklecentre.co.uk
END:VEVENT
END:VCALENDAR