BEGIN:VCALENDAR
VERSION:2.0
PRODID:-//Shoreham Community Trust - ECPv6.5.0//NONSGML v1.0//EN
CALSCALE:GREGORIAN
METHOD:PUBLISH
X-ORIGINAL-URL:https://www.shorehamcentre.co.uk
X-WR-CALDESC:Events for Shoreham Community Trust
REFRESH-INTERVAL;VALUE=DURATION:PT1H
X-Robots-Tag:noindex
X-PUBLISHED-TTL:PT1H
BEGIN:VTIMEZONE
TZID:Europe/London
BEGIN:DAYLIGHT
TZOFFSETFROM:+0000
TZOFFSETTO:+0100
TZNAME:BST
DTSTART:20250330T010000
END:DAYLIGHT
BEGIN:STANDARD
TZOFFSETFROM:+0100
TZOFFSETTO:+0000
TZNAME:GMT
DTSTART:20251026T010000
END:STANDARD
END:VTIMEZONE
BEGIN:VEVENT
DTSTART;TZID=Europe/London:20250406T110000
DTEND;TZID=Europe/London:20250406T130000
DTSTAMP:20260424T104036
CREATED:20250324T120818Z
LAST-MODIFIED:20250324T122448Z
UID:44656-1743937200-1743944400@www.shorehamcentre.co.uk
SUMMARY:Mike Hatchard's Jazz Breakfast
DESCRIPTION:This show features music from Jelly Roll Morton through to Chick Corea with tributes to many well known players (including J.P. Johnson\, Fats Waller\, Bill Evans\, Thelonius Monk\, Oscar Peterson\, Erroll Garner and Art Tatum)\, as well as some lesser known personal favourites (eg. Dodo Marmarosa and Willie ‘the Lion’ Smith). \nFor this extravaganza Mike\, on keyboards\, is joined by two superb musicians; Neil Bullock who recently wowed the audience at the Kino in Hastings with his drumming in ‘Concert by the Sea’ and Paul Morgan\, considered by many to be the UK’s number one jazz bassist. \nTickets include tea or coffee and a pastry.  £15 or £8 students. Tickets are from WeGotTickets.com or alternatively phone 07855693356 to reserve.  No online booking fee. \nLift/wheelchair access. Local car park is £1 all day Sundays. \nAnother fascinating morning of jazz and good humour.
URL:https://www.shorehamcentre.co.uk/event/mike-hatchards-jazz-breakfast-2/
LOCATION:Shoreham Centre\, 2 Pond Road\, Shoreham-by-Sea\, West-Sussex\, BN43 5WU\, United Kingdom
CATEGORIES:Music
ATTACH;FMTTYPE=image/jpeg:https://www.shorehamcentre.co.uk/wp-content/uploads/2025/03/Cropped-Jazz-breakfast-piano-histry-6-Apr-2025-flyerWEB.jpg
END:VEVENT
BEGIN:VEVENT
DTSTART;TZID=Europe/London:20250302T110000
DTEND;TZID=Europe/London:20250302T130000
DTSTAMP:20260424T104036
CREATED:20250127T111657Z
LAST-MODIFIED:20250210T125907Z
UID:41688-1740913200-1740920400@www.shorehamcentre.co.uk
SUMMARY:Mike Hatchard's Jazz Breakfast
DESCRIPTION:Enjoy a morning in the company of four super talented musicians. \nJulie Roberts\, vocalist\, known for the special quality of her voice and her emotional\nconnection with her songs\, interprets songs from gutsy blues to sophisticated jazz ballads. \n(Read more about Julie here:  www.julierobertssingeruk.com ) \nMike Hatchard\, a jazz maestro\, an irrepressibly talented musician on piano\, violin and\nmaybe a vocal or two. \nNils Solberg\, a superb jazz guitarist and fine singer. \nGeorge Trebar on bass takes his inspiration from such greats as Ray Brown\, Paul\nChambers and Christian McBride. \nTogether they present another great morning of wonderful jazz and good humour. \n2 March 11am – 1pm.  Doors 10.30am. \nLift/disabled access. Tickets (Tea or coffee included) no online booking fee £15. Students £8. \nTickets from www.WeGotTickets.com or phone to reserve 07855 693 356
URL:https://www.shorehamcentre.co.uk/event/mike-hatchards-jazz-breakfast/
LOCATION:Shoreham Centre\, 2 Pond Road\, Shoreham-by-Sea\, West-Sussex\, BN43 5WU\, United Kingdom
ATTACH;FMTTYPE=image/jpeg:https://www.shorehamcentre.co.uk/wp-content/uploads/2025/01/Hatchard-Jazz-Breakfast-March-2025-jpeg.jpg
END:VEVENT
END:VCALENDAR