BEGIN:VCALENDAR
VERSION:2.0
PRODID:-//Shoreham Community Trust - ECPv6.5.0//NONSGML v1.0//EN
CALSCALE:GREGORIAN
METHOD:PUBLISH
X-WR-CALNAME:Shoreham Community Trust
X-ORIGINAL-URL:https://www.shorehamcentre.co.uk
X-WR-CALDESC:Events for Shoreham Community Trust
REFRESH-INTERVAL;VALUE=DURATION:PT1H
X-Robots-Tag:noindex
X-PUBLISHED-TTL:PT1H
BEGIN:VTIMEZONE
TZID:Europe/London
BEGIN:DAYLIGHT
TZOFFSETFROM:+0000
TZOFFSETTO:+0100
TZNAME:BST
DTSTART:20250330T010000
END:DAYLIGHT
BEGIN:STANDARD
TZOFFSETFROM:+0100
TZOFFSETTO:+0000
TZNAME:GMT
DTSTART:20251026T010000
END:STANDARD
BEGIN:DAYLIGHT
TZOFFSETFROM:+0000
TZOFFSETTO:+0100
TZNAME:BST
DTSTART:20260329T010000
END:DAYLIGHT
BEGIN:STANDARD
TZOFFSETFROM:+0100
TZOFFSETTO:+0000
TZNAME:GMT
DTSTART:20261025T010000
END:STANDARD
END:VTIMEZONE
BEGIN:VEVENT
DTSTART;TZID=Europe/London:20260405T110000
DTEND;TZID=Europe/London:20260405T130000
DTSTAMP:20260424T091605
CREATED:20260302T113315Z
LAST-MODIFIED:20260302T113315Z
UID:61847-1775386800-1775394000@www.shorehamcentre.co.uk
SUMMARY:Mike Hatchard's Jazz Breakfast with Stella Goodey
DESCRIPTION:Virtuoso jazz pianist Mike Hatchard’s guest this month is Stella Goodey. Stella sings jazz standards\, French chanson\, blues. She is known as an interpreter of Bessie Smith and Billie Holiday. She has performed throughout the UK and in Paris and the south of France. Mike and Stella are backed by consummate professional players\, Terry Pack on bass and Bobby Worth on drums. \nFeelgood jazz played in a friendly atmosphere. A tea or coffee and a pastry are included in the ticket price. No online booking fee. £15. Students £8. \nAdjoining car park £1 all day on Sundays. Lift/wheelchair access to The Queen Elizabeth Room. Pubs and restaurants close by for after gig refreshment. \nLink for tickets. Link to Mike Hatchard’s website.
URL:https://www.shorehamcentre.co.uk/event/mike-hatchards-jazz-breakfast-with-stella-goodey/
LOCATION:Shoreham Centre\, 2 Pond Road\, Shoreham-by-Sea\, West-Sussex\, BN43 5WU\, United Kingdom
ATTACH;FMTTYPE=image/png:https://www.shorehamcentre.co.uk/wp-content/uploads/2026/03/Jazz-Breakfast-Stella-Goodey-April-2026-flyer-A5.png
END:VEVENT
BEGIN:VEVENT
DTSTART;TZID=Europe/London:20260301T110000
DTEND;TZID=Europe/London:20260301T130000
DTSTAMP:20260424T091605
CREATED:20260202T114958Z
LAST-MODIFIED:20260204T132702Z
UID:60968-1772362800-1772370000@www.shorehamcentre.co.uk
SUMMARY:Mike Hatchard's Jazz Breakfast
DESCRIPTION:Multi-instrumentalist\, Harry Whitty\, with sensational drummer\, Neil Bullock.   On bass the excellent George Trebar and at the heart of the show\, virtuoso jazz pianist\, Mike Hatchard. \nJazz standards\, blues and more. \nCome and enjoy another superb Sunday morning of jazz and good humour with outstanding musicians. \nTickets are £15 and include a tea or coffee and a pastry and are available from Mike Hatchard’s Jazz Breakfast with Harry Whitty and Neil Bullock (no online booking fee) or call 07855693356 to reserve. \nLocation: The Queen Elizabeth Room\, Shoreham Centre.  Local car parks £1 all day Sundays. Lift/wheelchair access.
URL:https://www.shorehamcentre.co.uk/event/mike-hatchards-jazz-breakfast-11/
LOCATION:Shoreham Centre\, 2 Pond Road\, Shoreham-by-Sea\, West-Sussex\, BN43 5WU\, United Kingdom
ATTACH;FMTTYPE=image/jpeg:https://www.shorehamcentre.co.uk/wp-content/uploads/2026/02/Flyer_JazzBreakfast_March26.jpg
END:VEVENT
BEGIN:VEVENT
DTSTART;TZID=Europe/London:20260201T110000
DTEND;TZID=Europe/London:20260201T130000
DTSTAMP:20260424T091605
CREATED:20260105T111322Z
LAST-MODIFIED:20260105T113738Z
UID:60526-1769943600-1769950800@www.shorehamcentre.co.uk
SUMMARY:Mike Hatchard's Jazz Breakfast
DESCRIPTION:Enrico Tomasso – one of the finest jazz trumpet players in the UK. \nWith George Trebar on bass and Mike Hatchard on keyboard. \nCome and enjoy another superb morning of jazz and good humour with these outstanding musicians. \nTickets are £15 and include tea or coffee and a pastry.  Tickets from WeGotTickets.com or phone 07855693356 to reserve. \nThe Queen Elizabeth Room\, The Shoreham Centre\, Pond Road\, Shoreham by Sea\, BN43 5WU. \nLift/wheelchair access.  Local car parks £1 all day Sundays.  For more information see Mike’s website; www.mikehatchardjazz.my.canva.site/
URL:https://www.shorehamcentre.co.uk/event/mike-hatchards-jazz-breakfast-10/
LOCATION:Shoreham Centre\, 2 Pond Road\, Shoreham-by-Sea\, West-Sussex\, BN43 5WU\, United Kingdom
ATTACH;FMTTYPE=image/jpeg:https://www.shorehamcentre.co.uk/wp-content/uploads/2026/01/Jazz-Breakfast-February-2026-1.jpg
END:VEVENT
BEGIN:VEVENT
DTSTART;TZID=Europe/London:20260104T110000
DTEND;TZID=Europe/London:20260104T130000
DTSTAMP:20260424T091605
CREATED:20251210T125359Z
LAST-MODIFIED:20251222T104814Z
UID:52140-1767524400-1767531600@www.shorehamcentre.co.uk
SUMMARY:Mike Hatchard's Jazz Breakfast
DESCRIPTION:Start 2026 with a musical treat. \nA programme of jazz and blues\, including the spectacular Rhapsody in Blue\, presented by\ntwo virtuoso musicians\, Mike Hatchard\, piano and Pete Long\, clarinet and saxophone.\nSpecial guest vocalist Julie Roberts. Julie\, with her wonderful mellow voice\, conveys the\nemotion\, wit and style of the great jazz standards. \nSunday 4 January\n11.00am to 1.00pm\nTICKETS £15. Students £8. – no online booking fee. Tickets include a tea or coffee and a\npastry.\nLink to order online from WeGotTickets: Mike Hatchard’s Jazz Breakfast with Pete Long\, clarinet and saxophone \nAlternatively for enquiries or to reserve tickets contact Lindsay on 07855 693 356. \nMike Hatchard’s Jazz Breakfasts take place in the Queen Elizabeth Room of the\nShoreham Centre\, BN43 5WU on the first Sunday of each month. Guests are assured of a\nfriendly relaxed atmosphere. The musicianship is always impressive\, and laughs are\nnever too far away. \nRecent written comments from our audience in November include\, “Phenomenal – no\nbetter way to spend a Sunday morning.” “Brilliant. Outstanding.” “Always love the friendly\natmosphere and coffee and croissants are delightful. Love the diversity.” “As ever\,\nabsolutely fabulous music and great humour – always makes me smile when I get here.\nLove the variety too.” \nLift/disabled access. Adjoining car park £1 for all day on Sundays.\nTell your friends and come along! \nMike’s website www.mikehatchardjazz.my.canva.site/\nPete Long’s website www.plong.co.uk\nJulie Roberts’ website www.julierobertssingeruk.com
URL:https://www.shorehamcentre.co.uk/event/mike-hatchards-jazz-breakfast-9/
LOCATION:Shoreham Centre\, 2 Pond Road\, Shoreham-by-Sea\, West-Sussex\, BN43 5WU\, United Kingdom
ATTACH;FMTTYPE=image/png:https://www.shorehamcentre.co.uk/wp-content/uploads/2025/12/Jazz-Breakfast-4-Jan-2026.png
END:VEVENT
BEGIN:VEVENT
DTSTART;TZID=Europe/London:20251207T110000
DTEND;TZID=Europe/London:20251207T130000
DTSTAMP:20260424T091605
CREATED:20251103T115042Z
LAST-MODIFIED:20251126T145057Z
UID:50489-1765105200-1765112400@www.shorehamcentre.co.uk
SUMMARY:Mike Hatchard's Jazz Breakfast
DESCRIPTION:Mike Hatchard’s Jazz Breakfast – December Edition\n\n\n \n\n\nWith Duncan Lamont and Mike Hatchard\n\n\n \n\n\nDuncan Lamont (Junior) consummate player of the saxophone\, playing mainly jazz standards\, and some of the best melodies of the 20th century. Duncan has a fund of stories about his life in music.\n\n\n \n\n\nHe has worked extensively in West End shows\, played on many film and tv series sound tracks\, backed many singers including Amy Winehouse\, Natalie Cole and Shirley Bassey\, played in the BBC Big Band\, worked as an arranger including for Strictly Come Dancing\, recently played a superb evening of jazz at Steyning Jazz Club.\n\n\n \n\n\nDuncan (Junior) is the son of the legendary Duncan Lamont\, song writer\, composer\, saxophonist.\n\n\n \n\n\nMike Hatchard\, one of the finest jazz pianists in the south of England and Duncan Lamonst will create a brilliant and fascinating morning of jazz.\n\n\n \n\n\nTickets are £15\, students £8\, and include coffee and a pastry. Available from WeGotTickets.com (search for “Hatchard”). Alternatively phone 07855693356 to reserve. Lift/wheelchair access. Local car parks £1 all day Sundays.
URL:https://www.shorehamcentre.co.uk/event/mike-hatchards-jazz-breakfast-8/
LOCATION:Shoreham Centre\, 2 Pond Road\, Shoreham-by-Sea\, West-Sussex\, BN43 5WU\, United Kingdom
CATEGORIES:Music
ATTACH;FMTTYPE=image/png:https://www.shorehamcentre.co.uk/wp-content/uploads/2025/11/duncan-L-7-dec-2025-flyer-B.png
END:VEVENT
BEGIN:VEVENT
DTSTART;TZID=Europe/London:20251102T110000
DTEND;TZID=Europe/London:20251102T130000
DTSTAMP:20260424T091605
CREATED:20250917T122328Z
LAST-MODIFIED:20250917T122646Z
UID:49782-1762081200-1762088400@www.shorehamcentre.co.uk
SUMMARY:Mike Hatchard's Jazz Breakfast with Django Chutney
DESCRIPTION:Jazz\, swing\, waltz\, manouche\, high energy\, fun. \nEnjoy mornings of outstanding musicianship and good humour. \nVENUE: Queen Elizabeth Room\, The Shoreham Centre\, Pond Road\, Shoreham\, BN43 5WU. \nTickets include a tea or coffee and a pastry.  £15 or £8 students. No online booking fee. From https://www.wegottickets.com \nAlternatively phone 07855693356 to reserve. \nLift/wheelchair access.  Local car parks £1 all day Sundays. \nFor more information see Mike’s website – link below. \n 
URL:https://www.shorehamcentre.co.uk/event/mike-hatchards-jazz-breakfast-with-django-chutney/
LOCATION:Shoreham Centre\, 2 Pond Road\, Shoreham-by-Sea\, West-Sussex\, BN43 5WU\, United Kingdom
ATTACH;FMTTYPE=image/jpeg:https://www.shorehamcentre.co.uk/wp-content/uploads/2025/09/Django_Chutney_November25.jpg
END:VEVENT
BEGIN:VEVENT
DTSTART;TZID=Europe/London:20251005T110000
DTEND;TZID=Europe/London:20251005T130000
DTSTAMP:20260424T091605
CREATED:20250917T120505Z
LAST-MODIFIED:20250917T120505Z
UID:49778-1759662000-1759669200@www.shorehamcentre.co.uk
SUMMARY:Mike Hatchard's Jazz Breakfast with Julian Stringle
DESCRIPTION:Julian Stringle is a world class player of the clarinet. \nVoted Best Clarinettist in the 2019 British Jazz Awards. Julian is also brilliant on alto and tenor saxes. He played sax with Meatloaf at Wembley Stadium and with Tina Turner in Monaco. He is a fine singer\, too. \nOver the years Julian has played and recorded with many of the world’s top musicians. He has composed film music and arranged scores for big bands including a big band in Paris which he conducted to record with Charles Aznavour. \nJulian’s passion for music covers many styles – Gershwin\, Bechet\, Rodgers and Hart\, Bernstein\, songs from Hollywood movies and Broadway shows\, Jobim\, Delius\, Rimsky Korsakov and a great many more. \nJulian will be accompanied by George Trebar bass\, and Mike Hatchard piano. \nThis will be an impressive and fascinating morning of music to enjoy and remember. \nVENUE Queen Elizabeth Room in the Shoreham Centre BN43 5WU. \nLift and wheelchair access available. \nTIME Doors 10.30. Show 11.00am till 1.00pm with an interval. \nTICKETS include a tea or coffee and a pastry and there is no online booking fee. £15.00. Students £8.00. From WeGotTickets.com https://wegottickets.com/event/672396 \nParking on west side of Centre building and nearby. Shoreham car parks £1.00 all day on Sundays. \nMike Hatchard’s Shoreham Jazz Breakfast is the first Sunday of each month.
URL:https://www.shorehamcentre.co.uk/event/mike-hatchards-jazz-breakfast-with-julian-stringle/
LOCATION:Shoreham Centre\, 2 Pond Road\, Shoreham-by-Sea\, West-Sussex\, BN43 5WU\, United Kingdom
ATTACH;FMTTYPE=image/jpeg:https://www.shorehamcentre.co.uk/wp-content/uploads/2025/09/Julian-Stringle-Shoreham-Centre-header-Oct-2025.jpg
END:VEVENT
BEGIN:VEVENT
DTSTART;TZID=Europe/London:20250907T110000
DTEND;TZID=Europe/London:20250907T130000
DTSTAMP:20260424T091605
CREATED:20250807T123650Z
LAST-MODIFIED:20250807T124320Z
UID:49337-1757242800-1757250000@www.shorehamcentre.co.uk
SUMMARY:Mike Hatchard's Jazz Breakfast
DESCRIPTION:A touch of stardom comes to Shoreham! Jodie Elms is an internationally renowned singer and recording artist\, classically trained but successful as a pop singer (a number one hit in Italy) and as a singer of jazz Jodie delivers jazz standards with class and style. Jodie sings with Paul Morgan bass\, and jazz keyboard maestro\, Mike Hatchard. \nEnjoy an exceptional morning of live jazz. \nWHEN Sunday 7th September 11.00am till 1.00pm \nVENUE Here in the Queen Elizabeth Room\, upstairs in the Shoreham Centre. LIFT AND WHEELCHAIR ACCESS available. \nTICKETS include a tea or coffee and a pastry and there is no online booking fee. \nFee:  £15.00 or students £8.00 from https://wegottickets.com/event/671885\n\nAlternatively phone  07855 693 356 to reserve tickets. \nParking on west side of Shoreham Centre building and nearby. Shoreham car parks £1.00 all day on Sundays.
URL:https://www.shorehamcentre.co.uk/event/mike-hatchards-jazz-breakfast-7/
LOCATION:Shoreham Centre\, 2 Pond Road\, Shoreham-by-Sea\, West-Sussex\, BN43 5WU\, United Kingdom
ATTACH;FMTTYPE=image/jpeg:https://www.shorehamcentre.co.uk/wp-content/uploads/2025/08/Jazz-Breakfast-September-25.jpg
END:VEVENT
BEGIN:VEVENT
DTSTART;TZID=Europe/London:20250803T110000
DTEND;TZID=Europe/London:20250803T130000
DTSTAMP:20260424T091605
CREATED:20250710T134859Z
LAST-MODIFIED:20250710T134859Z
UID:49202-1754218800-1754226000@www.shorehamcentre.co.uk
SUMMARY:Mike Hatchard's Jazz Breakfast
DESCRIPTION:With Peter Long. \nSaxes and clarinet\, vocalist composer\, musical arranger for Paul McCartney\, 5 Years with the Jools Holland Rhythm and Blues Orchestra and many more\, band leader (including Ronnie Scott’s Club). \nPeter has played on numerous hit albums with world class artistes.  His own album The Jazz Planets won the Times ”Must Have Jazz CD of the Year” in 2018. \nEnjoy an exceptional morning of live jazz. \nWHEN Sunday 3rd August 11.00am till 1.00pm \nVENUE Here in the Queen Elizabeth Room\, upstairs in the Shoreham Centre. LIFT AND WHEELCHAIR ACCESS available. \nTICKETS include a tea or coffee and a pastry and there is no online booking fee. \nFee:  £15.00 or students £8.00 from https://wegottickets.com/event/661687\n\nAlternatively phone  07855 693 356 to reserve tickets. \nRead more about Peter here:  http://www.plong.co.uk \nParking on west side of Shoreham Centre building and nearby. Shoreham car parks £1.00 all day on Sundays.
URL:https://www.shorehamcentre.co.uk/event/mike-hatchards-jazz-breakfast-6/
LOCATION:Shoreham Centre\, 2 Pond Road\, Shoreham-by-Sea\, West-Sussex\, BN43 5WU\, United Kingdom
ATTACH;FMTTYPE=image/jpeg:https://www.shorehamcentre.co.uk/wp-content/uploads/2025/07/Jazz-Breakfast-August25.jpg
END:VEVENT
BEGIN:VEVENT
DTSTART;TZID=Europe/London:20250706T110000
DTEND;TZID=Europe/London:20250706T130000
DTSTAMP:20260424T091605
CREATED:20250602T111246Z
LAST-MODIFIED:20250616T085958Z
UID:46191-1751799600-1751806800@www.shorehamcentre.co.uk
SUMMARY:Mike Hatchard's Jazz Breakfast
DESCRIPTION:A musical treat with vocalist Julie Roberts.  Jazz and blues standards and a few Mike Hatchard originals with top jazz musicians Paul Morgan\, Tristan Fry and Mike Hatchard. \nAnother impressive morning of jazz and good humour. \nWHEN Sunday 6th July 11.00am till 1.00pm \nVENUE Here in the Queen Elizabeth Room\, upstairs in the Shoreham Centre. LIFT AND WHEELCHAIR ACCESS available. \nTICKETS include a tea or coffee and a pastry and there is no online booking fee. \nFee:  £15.00 or students £8.00 from https://wegottickets.com/event/661687\n\nAlternatively phone Lindsay on 07855 693 356 to reserve tickets. \nRead more about Julie here:  http://www.julierobertssingeruk.com/ \nParking on west side of Shoreham Centre building and nearby. Shoreham car parks £1.00 all day on Sundays.
URL:https://www.shorehamcentre.co.uk/event/mike-hatchards-jazz-breakfast-5/
LOCATION:Shoreham Centre\, 2 Pond Road\, Shoreham-by-Sea\, West-Sussex\, BN43 5WU\, United Kingdom
ATTACH;FMTTYPE=image/jpeg:https://www.shorehamcentre.co.uk/wp-content/uploads/2025/06/Jazz-Breakfast-6-July-25-v2-1.jpg
END:VEVENT
BEGIN:VEVENT
DTSTART;TZID=Europe/London:20250601T110000
DTEND;TZID=Europe/London:20250601T130000
DTSTAMP:20260424T091605
CREATED:20250507T134333Z
LAST-MODIFIED:20250508T143818Z
UID:45048-1748775600-1748782800@www.shorehamcentre.co.uk
SUMMARY:Mike Hatchard's Jazz Breakfast
DESCRIPTION:The group that calls itself “Afternoon in Paris” performs morning\, noon and night – whenever an audience is keen to hear them. Their style and repertoire are inspired by the Hot Club of France of the 1930s and 40s with Django Reinhardt and Stephane Grappelli. \nSwing\, Latin\, gypsy jazz and blues and usually an infectious rhythm are the characteristics with virtuoso musicianship. \nSusanna Warren is a striking performer – vocals\, saxes\, and bass clarinet whose talent is firmly based on her classical training in the UK and Hungary. She started performing jazz in the UK and around the world in 2007. \nJeremy Young\, alongside his career as a successful rock musician\, fell in love with and studied the Manouche gypsy jazz style of rhythm and picking style. He is a truly impressive guitarist who has played across the UK and in Denmark\, Poland\, Ireland\, Germany and France. \nMike Hatchard is an outstanding keyboard player\, composer\, arranger known to thousands of people along the south coast who have come to his jazz and classical gigs and legendary “Jazz Breakfasts”. \nWHEN Sunday 1st June 11.00am till 1.00pm \nVENUE Here in the Queen Elizabeth Room\, upstairs in the Shoreham Centre. LIFT AND WHEELCHAIR ACCESS available. \nTICKETS include a tea or coffee and a pastry and there is no online booking fee. £15.00.\nStudents £8.00 from www.wegottickets.com \nAlternatively phone Lindsay on 07855 693 356 to reserve tickets. \nParking on west side of Shoreham Centre building and nearby. Shoreham car parks £1.00 all day on Sundays.
URL:https://www.shorehamcentre.co.uk/event/mike-hatchards-jazz-breakfast-4/
LOCATION:Shoreham Centre\, 2 Pond Road\, Shoreham-by-Sea\, West-Sussex\, BN43 5WU\, United Kingdom
CATEGORIES:Music
ATTACH;FMTTYPE=image/jpeg:https://www.shorehamcentre.co.uk/wp-content/uploads/2025/05/Hatchard-Jazz-Breakfast-June-25.jpg
END:VEVENT
BEGIN:VEVENT
DTSTART;TZID=Europe/London:20250504T110000
DTEND;TZID=Europe/London:20250504T130000
DTSTAMP:20260424T091605
CREATED:20250407T134746Z
LAST-MODIFIED:20250410T140614Z
UID:44722-1746356400-1746363600@www.shorehamcentre.co.uk
SUMMARY:Mike Hatchard's Jazz Breakfast
DESCRIPTION:With Charlotte Glasson and Mike Willis \nCHARLOTTE GLASSON is a musician absolutely brimming with talent. Chiefly known for her playing of all the saxes she is\, nevertheless\, an accomplished player of 14 instruments.\n\nCharlotte grew up in Brighton but can now be heard playing all over the UK. \nShe has her own band but works with many others. She has contributed to the music soundtracks of many film and TV series and has played with many famous musicians and singers including Clare Martin\, Nick Cave\, and Oasis. She has played The Dome\, the London Palladium and even the O2 arena. \nHere with singer/songwriter Mike Willis from Nashville\, Paul Morgan on bass\, Bobby Worth on drums and Mike Hatchard himself on keyboard. \n\nEnjoy the warmth\, impressive musicianship and good humour which is a characteristic of these monthly jazz breakfasts. \nTickets are £15 (£8 students) and include tea or coffee and a pastry. \nFrom WeGotTickets.com or call Lindsay on 07855693356 to reserve. \nVenue:  Here\, upstairs in the Queen Elizabeth Room.  Lift/wheelchair access available. \nParking:  Parking on west side of Centre building and nearby. Shoreham car parks £1.00 all day on Sundays.
URL:https://www.shorehamcentre.co.uk/event/mike-hatchards-jazz-breakfast-3/
LOCATION:Shoreham Centre\, 2 Pond Road\, Shoreham-by-Sea\, West-Sussex\, BN43 5WU\, United Kingdom
CATEGORIES:Music
ATTACH;FMTTYPE=image/jpeg:https://www.shorehamcentre.co.uk/wp-content/uploads/2025/04/Jazz-Breakfast-May25.jpg
END:VEVENT
BEGIN:VEVENT
DTSTART;TZID=Europe/London:20250406T110000
DTEND;TZID=Europe/London:20250406T130000
DTSTAMP:20260424T091605
CREATED:20250324T120818Z
LAST-MODIFIED:20250324T122448Z
UID:44656-1743937200-1743944400@www.shorehamcentre.co.uk
SUMMARY:Mike Hatchard's Jazz Breakfast
DESCRIPTION:This show features music from Jelly Roll Morton through to Chick Corea with tributes to many well known players (including J.P. Johnson\, Fats Waller\, Bill Evans\, Thelonius Monk\, Oscar Peterson\, Erroll Garner and Art Tatum)\, as well as some lesser known personal favourites (eg. Dodo Marmarosa and Willie ‘the Lion’ Smith). \nFor this extravaganza Mike\, on keyboards\, is joined by two superb musicians; Neil Bullock who recently wowed the audience at the Kino in Hastings with his drumming in ‘Concert by the Sea’ and Paul Morgan\, considered by many to be the UK’s number one jazz bassist. \nTickets include tea or coffee and a pastry.  £15 or £8 students. Tickets are from WeGotTickets.com or alternatively phone 07855693356 to reserve.  No online booking fee. \nLift/wheelchair access. Local car park is £1 all day Sundays. \nAnother fascinating morning of jazz and good humour.
URL:https://www.shorehamcentre.co.uk/event/mike-hatchards-jazz-breakfast-2/
LOCATION:Shoreham Centre\, 2 Pond Road\, Shoreham-by-Sea\, West-Sussex\, BN43 5WU\, United Kingdom
CATEGORIES:Music
ATTACH;FMTTYPE=image/jpeg:https://www.shorehamcentre.co.uk/wp-content/uploads/2025/03/Cropped-Jazz-breakfast-piano-histry-6-Apr-2025-flyerWEB.jpg
END:VEVENT
BEGIN:VEVENT
DTSTART;TZID=Europe/London:20250302T110000
DTEND;TZID=Europe/London:20250302T130000
DTSTAMP:20260424T091605
CREATED:20250127T111657Z
LAST-MODIFIED:20250210T125907Z
UID:41688-1740913200-1740920400@www.shorehamcentre.co.uk
SUMMARY:Mike Hatchard's Jazz Breakfast
DESCRIPTION:Enjoy a morning in the company of four super talented musicians. \nJulie Roberts\, vocalist\, known for the special quality of her voice and her emotional\nconnection with her songs\, interprets songs from gutsy blues to sophisticated jazz ballads. \n(Read more about Julie here:  www.julierobertssingeruk.com ) \nMike Hatchard\, a jazz maestro\, an irrepressibly talented musician on piano\, violin and\nmaybe a vocal or two. \nNils Solberg\, a superb jazz guitarist and fine singer. \nGeorge Trebar on bass takes his inspiration from such greats as Ray Brown\, Paul\nChambers and Christian McBride. \nTogether they present another great morning of wonderful jazz and good humour. \n2 March 11am – 1pm.  Doors 10.30am. \nLift/disabled access. Tickets (Tea or coffee included) no online booking fee £15. Students £8. \nTickets from www.WeGotTickets.com or phone to reserve 07855 693 356
URL:https://www.shorehamcentre.co.uk/event/mike-hatchards-jazz-breakfast/
LOCATION:Shoreham Centre\, 2 Pond Road\, Shoreham-by-Sea\, West-Sussex\, BN43 5WU\, United Kingdom
ATTACH;FMTTYPE=image/jpeg:https://www.shorehamcentre.co.uk/wp-content/uploads/2025/01/Hatchard-Jazz-Breakfast-March-2025-jpeg.jpg
END:VEVENT
END:VCALENDAR