BEGIN:VCALENDAR
VERSION:2.0
PRODID:-//Shoreham Community Trust - ECPv6.5.0//NONSGML v1.0//EN
CALSCALE:GREGORIAN
METHOD:PUBLISH
X-ORIGINAL-URL:https://www.shorehamcentre.co.uk
X-WR-CALDESC:Events for Shoreham Community Trust
REFRESH-INTERVAL;VALUE=DURATION:PT1H
X-Robots-Tag:noindex
X-PUBLISHED-TTL:PT1H
BEGIN:VTIMEZONE
TZID:Europe/London
BEGIN:DAYLIGHT
TZOFFSETFROM:+0000
TZOFFSETTO:+0100
TZNAME:BST
DTSTART:20210328T010000
END:DAYLIGHT
BEGIN:STANDARD
TZOFFSETFROM:+0100
TZOFFSETTO:+0000
TZNAME:GMT
DTSTART:20211031T010000
END:STANDARD
BEGIN:DAYLIGHT
TZOFFSETFROM:+0000
TZOFFSETTO:+0100
TZNAME:BST
DTSTART:20220327T010000
END:DAYLIGHT
BEGIN:STANDARD
TZOFFSETFROM:+0100
TZOFFSETTO:+0000
TZNAME:GMT
DTSTART:20221030T010000
END:STANDARD
BEGIN:DAYLIGHT
TZOFFSETFROM:+0000
TZOFFSETTO:+0100
TZNAME:BST
DTSTART:20230326T010000
END:DAYLIGHT
BEGIN:STANDARD
TZOFFSETFROM:+0100
TZOFFSETTO:+0000
TZNAME:GMT
DTSTART:20231029T010000
END:STANDARD
BEGIN:DAYLIGHT
TZOFFSETFROM:+0000
TZOFFSETTO:+0100
TZNAME:BST
DTSTART:20240331T010000
END:DAYLIGHT
BEGIN:STANDARD
TZOFFSETFROM:+0100
TZOFFSETTO:+0000
TZNAME:GMT
DTSTART:20241027T010000
END:STANDARD
END:VTIMEZONE
BEGIN:VEVENT
DTSTART;TZID=Europe/London:20241207T200000
DTEND;TZID=Europe/London:20241208T000000
DTSTAMP:20260424T131228
CREATED:20220818T085226Z
LAST-MODIFIED:20241125T102340Z
UID:4614-1733601600-1733616000@www.shorehamcentre.co.uk
SUMMARY:Lets Dance\, Women's Only Disco
DESCRIPTION: Let’s Dance! – Women only disco – \nWe’d love you to join us for our Autumn disco on Saturday 7th December 2024.\nA fun evening for women who love to dance! – hosted by DJ Maureen (Little Mo) – bring all your friends for a great night out!Friendly disco for gay women over 35. Great music packed with all the dance floor classics. We love to play your requests – let us know your favourite dance tracks .\n************* BOOK EARLY AS TICKETS SELL FAST! ****************\nTickets- £9.50 advance tickets only ( book via eventbrite).NO ENTRY ON THE DOOR.\nhttps://www.eventbrite.co.uk/…/lets-dance-women-only…\n\n~Strictly over 18’s only .~ Disco 8pm – 12 midnight.~Licensed Bar is provided – closes at 11.30pm. .(CASH only – No cards)\nDON’T FORGET TO LIKE OUR FACEBOOK PAGE www.facebook.com/letsdancewomen/ AND SHARE THIS EVENT WITH YOUR FRIENDS\n\nWe look forward to welcoming you to Lets Dance! Women Only Discos on 7th December. \nSee less\n\n                     \n 
URL:https://www.shorehamcentre.co.uk/event/lets-dance-womens-only-disco/
ATTACH;FMTTYPE=image/png:https://www.shorehamcentre.co.uk/wp-content/uploads/2021/05/lets-dance.png
ORGANIZER;CN="Lets Dance":MAILTO:letsdancewomen@gmail.com
END:VEVENT
BEGIN:VEVENT
DTSTART;TZID=Europe/London:20220618T200000
DTEND;TZID=Europe/London:20220619T000000
DTSTAMP:20260424T131228
CREATED:20220507T213411Z
LAST-MODIFIED:20220507T215610Z
UID:4242-1655582400-1655596800@www.shorehamcentre.co.uk
SUMMARY:Let's Dance- Women Only Disco
DESCRIPTION:Let’s Dance! – Women only disco – Sat 18th June 2022\nWe’d love you to join us for our Summer disco on Saturday 18th June 2022\nA fun evening for women who love to dance! – hosted by DJ Maureen (Little Mo) – bring all your friends for a great night out!\nFriendly disco ideal for gay women over 35. Great music packed with all the dance floor classics\n************* BOOK EARLY AS TICKETS SELL FAST! ****************\nTickets- £8.50 advance tickets only ( book via eventbrite).\nNO ENTRY ON THE DOOR.\nLets Dance! – women only discos are held at the centrally located Shoreham Centre\n~Strictly over 18’s only .\n~ Disco 8pm – 12 midnight.\n~Licensed Bar is provided – closes at 11.30pm. .(Cash Bar – No cards)\n~Free car parking at venue and easy public transport to/from Brighton area\nDON’T FORGET TO LIKE OUR FACEBOOK PAGE www.facebook.com/letsdancewomen/ AND SHARE THIS EVENT WITH YOUR FRIENDS\nWe look forward to welcoming you to Lets Dance! Women Only Disco on 18th June .
URL:https://www.shorehamcentre.co.uk/event/lets-dance-women-only-disco-2/
LOCATION:Shoreham Centre\, 2 Pond Road\, Shoreham-by-Sea\, West-Sussex\, BN43 5WU\, United Kingdom
ATTACH;FMTTYPE=image/jpeg:https://www.shorehamcentre.co.uk/wp-content/uploads/2019/07/lets-dance-women-only.jpg
ORGANIZER;CN="Lets Dance":MAILTO:letsdancewomen@gmail.com
END:VEVENT
BEGIN:VEVENT
DTSTART;TZID=Europe/London:20211002T200000
DTEND;TZID=Europe/London:20211003T000000
DTSTAMP:20260424T131228
CREATED:20190708T070411Z
LAST-MODIFIED:20211124T120237Z
UID:350-1633204800-1633219200@www.shorehamcentre.co.uk
SUMMARY:Let's Dance- Women Only Disco -SOLD OUT
DESCRIPTION:SOLD OUT -Next Event 5th March 22 \nLet’s dance discos are run by women for  lesbian/ gay women who love to dance . Relaxed environment rather than  club scene. Friendly disco ideal for women over 35.Great music packed with all the dance floor classics \nFeaturing DJ Maureen ‘Little Mo’ \nTickets in advance only. \nwww.eventbrite.co.uk/e/lets-dance-women-only-disco-2nd-october-2021-tickets-154078241167 \n 
URL:https://www.shorehamcentre.co.uk/event/lets-dance-women-only-disco/2021-10-02/
ATTACH;FMTTYPE=image/jpeg:https://www.shorehamcentre.co.uk/wp-content/uploads/2019/07/lets-dance-women-only.jpg
ORGANIZER;CN="Lets Dance":MAILTO:letsdancewomen@gmail.com
END:VEVENT
END:VCALENDAR