BEGIN:VCALENDAR
VERSION:2.0
PRODID:-//Shoreham Community Trust - ECPv6.5.0//NONSGML v1.0//EN
CALSCALE:GREGORIAN
METHOD:PUBLISH
X-ORIGINAL-URL:https://www.shorehamcentre.co.uk
X-WR-CALDESC:Events for Shoreham Community Trust
REFRESH-INTERVAL;VALUE=DURATION:PT1H
X-Robots-Tag:noindex
X-PUBLISHED-TTL:PT1H
BEGIN:VTIMEZONE
TZID:Europe/London
BEGIN:DAYLIGHT
TZOFFSETFROM:+0000
TZOFFSETTO:+0100
TZNAME:BST
DTSTART:20220327T010000
END:DAYLIGHT
BEGIN:STANDARD
TZOFFSETFROM:+0100
TZOFFSETTO:+0000
TZNAME:GMT
DTSTART:20221030T010000
END:STANDARD
END:VTIMEZONE
BEGIN:VEVENT
DTSTART;TZID=Europe/London:20220924T200000
DTEND;TZID=Europe/London:20220925T000000
DTSTAMP:20260424T201833
CREATED:20220818T084948Z
LAST-MODIFIED:20220818T084948Z
UID:4611-1664049600-1664064000@www.shorehamcentre.co.uk
SUMMARY:Lets Dance\, Women Only Disco
DESCRIPTION:A fun evening for women who love to dance! – hosted by DJ Maureen (Little Mo) – bring all your friends for a great night out! \nFriendly disco ideal for gay women over 35. Great music packed with all the dance floor classics \n       ************* BOOK EARLY AS TICKETS SELL FAST! **************** \n  \nTickets- £8.50 advance tickets only ( book via  https://www.eventbrite.co.uk/e/lets-dance-women-only-disco ) \nNO ENTRY ON THE DOOR. \n  \nLets Dance! – women only discos  are held at the centrally located Shoreham Centre \n~Strictly over 18’s only . \n~ Disco 8pm – 12 midnight. \n~Licensed Bar is provided – closes at 11.30pm. ( CASH BAR -NO CARDS). \n 
URL:https://www.shorehamcentre.co.uk/event/lets-dance-women-only-disco-3/
ATTACH;FMTTYPE=image/png:https://www.shorehamcentre.co.uk/wp-content/uploads/2021/05/lets-dance.png
ORGANIZER;CN="Lets Dance":MAILTO:letsdancewomen@gmail.com
END:VEVENT
END:VCALENDAR