BEGIN:VCALENDAR
VERSION:2.0
PRODID:-//Shoreham Community Trust - ECPv6.5.0//NONSGML v1.0//EN
CALSCALE:GREGORIAN
METHOD:PUBLISH
X-ORIGINAL-URL:https://www.shorehamcentre.co.uk
X-WR-CALDESC:Events for Shoreham Community Trust
REFRESH-INTERVAL;VALUE=DURATION:PT1H
X-Robots-Tag:noindex
X-PUBLISHED-TTL:PT1H
BEGIN:VTIMEZONE
TZID:Europe/London
BEGIN:DAYLIGHT
TZOFFSETFROM:+0000
TZOFFSETTO:+0100
TZNAME:BST
DTSTART:20230326T010000
END:DAYLIGHT
BEGIN:STANDARD
TZOFFSETFROM:+0100
TZOFFSETTO:+0000
TZNAME:GMT
DTSTART:20231029T010000
END:STANDARD
END:VTIMEZONE
BEGIN:VEVENT
DTSTART;TZID=Europe/London:20230526T190000
DTEND;TZID=Europe/London:20230526T223000
DTSTAMP:20260424T193355
CREATED:20230419T125836Z
LAST-MODIFIED:20230420T104347Z
UID:5090-1685127600-1685140200@www.shorehamcentre.co.uk
SUMMARY:Hometown Glory-Tribute to ADELE by Natalie Black
DESCRIPTION:Dream Productions Ltd presents \nTribute to Adele by Natalie Black. \nDoors open 19.00 \nTickets in advance via ticket link on poster or via website www.dreamproductions.biz \n\nTickets from £19. \n 
URL:https://www.shorehamcentre.co.uk/event/dream-productions-ltd-presents/
ATTACH;FMTTYPE=image/png:https://www.shorehamcentre.co.uk/wp-content/uploads/2023/04/Adele-Tribute.png
ORGANIZER;CN="Dream Productions":MAILTO:info.dreamproductionsltd@gmail.com
END:VEVENT
END:VCALENDAR