BEGIN:VCALENDAR
VERSION:2.0
PRODID:-//Shoreham Community Trust - ECPv6.5.0//NONSGML v1.0//EN
CALSCALE:GREGORIAN
METHOD:PUBLISH
X-ORIGINAL-URL:https://www.shorehamcentre.co.uk
X-WR-CALDESC:Events for Shoreham Community Trust
REFRESH-INTERVAL;VALUE=DURATION:PT1H
X-Robots-Tag:noindex
X-PUBLISHED-TTL:PT1H
BEGIN:VTIMEZONE
TZID:Europe/London
BEGIN:DAYLIGHT
TZOFFSETFROM:+0000
TZOFFSETTO:+0100
TZNAME:BST
DTSTART:20220327T010000
END:DAYLIGHT
BEGIN:STANDARD
TZOFFSETFROM:+0100
TZOFFSETTO:+0000
TZNAME:GMT
DTSTART:20221030T010000
END:STANDARD
BEGIN:DAYLIGHT
TZOFFSETFROM:+0000
TZOFFSETTO:+0100
TZNAME:BST
DTSTART:20230326T010000
END:DAYLIGHT
BEGIN:STANDARD
TZOFFSETFROM:+0100
TZOFFSETTO:+0000
TZNAME:GMT
DTSTART:20231029T010000
END:STANDARD
BEGIN:DAYLIGHT
TZOFFSETFROM:+0000
TZOFFSETTO:+0100
TZNAME:BST
DTSTART:20240331T010000
END:DAYLIGHT
BEGIN:STANDARD
TZOFFSETFROM:+0100
TZOFFSETTO:+0000
TZNAME:GMT
DTSTART:20241027T010000
END:STANDARD
END:VTIMEZONE
BEGIN:VEVENT
DTSTART;TZID=Europe/London:20241109T200000
DTEND;TZID=Europe/London:20241109T233000
DTSTAMP:20260424T143126
CREATED:20240326T100258Z
LAST-MODIFIED:20241024T120408Z
UID:5471-1731182400-1731195000@www.shorehamcentre.co.uk
SUMMARY:Party Dance-Diamond Dance
DESCRIPTION:Half Sprung Floor \nNon Stop Mix of Music \nFree Parking \nBar
URL:https://www.shorehamcentre.co.uk/event/party-dance-diamond-dance-4/
ATTACH;FMTTYPE=image/jpeg:https://www.shorehamcentre.co.uk/wp-content/uploads/2023/09/parents-meeting-poster-social-media.jpeg
END:VEVENT
BEGIN:VEVENT
DTSTART;TZID=Europe/London:20231231T200000
DTEND;TZID=Europe/London:20240101T003000
DTSTAMP:20260424T143126
CREATED:20230912T114009Z
LAST-MODIFIED:20230912T114227Z
UID:5271-1704052800-1704069000@www.shorehamcentre.co.uk
SUMMARY:New Year's Eve Party Dance Night
DESCRIPTION:Hosted by Diamond Dance \nLuxury Buffet–Bar–Awesome Music Mix \nEarly Bird £18 pp until 18/11/23 \nThen £20 pp until 15/12/23 \n£25pp onwards
URL:https://www.shorehamcentre.co.uk/event/new-years-eve-party-dance-night/
ATTACH;FMTTYPE=image/jpeg:https://www.shorehamcentre.co.uk/wp-content/uploads/2022/08/New-Years-Eve.jpg
END:VEVENT
BEGIN:VEVENT
DTSTART;TZID=Europe/London:20231215T200000
DTEND;TZID=Europe/London:20231215T233000
DTSTAMP:20260424T143126
CREATED:20230924T140505Z
LAST-MODIFIED:20230924T140505Z
UID:5309-1702670400-1702683000@www.shorehamcentre.co.uk
SUMMARY:Diamond Dance & The Wiggle Room Christmas Redball
DESCRIPTION:
URL:https://www.shorehamcentre.co.uk/event/diamond-dance-the-wiggle-room-christmas-redball/
END:VEVENT
BEGIN:VEVENT
DTSTART;TZID=Europe/London:20231111T200000
DTEND;TZID=Europe/London:20231111T233000
DTSTAMP:20260424T143126
CREATED:20230912T142319Z
LAST-MODIFIED:20230912T142319Z
UID:5296-1699732800-1699745400@www.shorehamcentre.co.uk
SUMMARY:Party Dance-Diamond Dance
DESCRIPTION:Half Sprung Floor \nNon Stop Mix of Music \nFree Parking \nBar
URL:https://www.shorehamcentre.co.uk/event/party-dance-diamond-dance-3/
ATTACH;FMTTYPE=image/jpeg:https://www.shorehamcentre.co.uk/wp-content/uploads/2023/09/parents-meeting-poster-social-media.jpeg
END:VEVENT
BEGIN:VEVENT
DTSTART;TZID=Europe/London:20231028T200000
DTEND;TZID=Europe/London:20231028T233000
DTSTAMP:20260424T143126
CREATED:20230912T142015Z
LAST-MODIFIED:20230912T142015Z
UID:5292-1698523200-1698535800@www.shorehamcentre.co.uk
SUMMARY:Party Dance-Diamond Dance
DESCRIPTION:Half Sprung Floor \nNon Stop Mix of Music \nFree Parking \nBar
URL:https://www.shorehamcentre.co.uk/event/party-dance-diamond-dance-2/
ATTACH;FMTTYPE=image/jpeg:https://www.shorehamcentre.co.uk/wp-content/uploads/2023/09/parents-meeting-poster-social-media.jpeg
END:VEVENT
BEGIN:VEVENT
DTSTART;TZID=Europe/London:20230916T200000
DTEND;TZID=Europe/London:20230916T233000
DTSTAMP:20260424T143126
CREATED:20230912T141218Z
LAST-MODIFIED:20230912T141653Z
UID:5288-1694894400-1694907000@www.shorehamcentre.co.uk
SUMMARY:Party Dance-Diamond Dance
DESCRIPTION:Half Sprung Floor \nNon Stop Mix of Music \nFree Parking \nBar
URL:https://www.shorehamcentre.co.uk/event/party-dance-diamond-dance/
ATTACH;FMTTYPE=image/jpeg:https://www.shorehamcentre.co.uk/wp-content/uploads/2023/09/parents-meeting-poster-social-media.jpeg
END:VEVENT
BEGIN:VEVENT
DTSTART;TZID=Europe/London:20230617T200000
DTEND;TZID=Europe/London:20230617T233000
DTSTAMP:20260424T143126
CREATED:20230123T141611Z
LAST-MODIFIED:20230123T141611Z
UID:4875-1687032000-1687044600@www.shorehamcentre.co.uk
SUMMARY:Diamond Dance -Modern Jive Evening
DESCRIPTION:
URL:https://www.shorehamcentre.co.uk/event/diamond-dance-modern-jive-evening-6/
ATTACH;FMTTYPE=image/jpeg:https://www.shorehamcentre.co.uk/wp-content/uploads/2020/06/Diamond-Dance-Image.jpg
END:VEVENT
BEGIN:VEVENT
DTSTART;TZID=Europe/London:20230520T200000
DTEND;TZID=Europe/London:20230520T233000
DTSTAMP:20260424T143126
CREATED:20230123T141519Z
LAST-MODIFIED:20230123T141519Z
UID:4873-1684612800-1684625400@www.shorehamcentre.co.uk
SUMMARY:Diamond Dance -Modern Jive Evening
DESCRIPTION:
URL:https://www.shorehamcentre.co.uk/event/diamond-dance-modern-jive-evening-5/
ATTACH;FMTTYPE=image/jpeg:https://www.shorehamcentre.co.uk/wp-content/uploads/2020/06/Diamond-Dance-Image.jpg
END:VEVENT
BEGIN:VEVENT
DTSTART;TZID=Europe/London:20230415T200000
DTEND;TZID=Europe/London:20230415T233000
DTSTAMP:20260424T143126
CREATED:20230123T141319Z
LAST-MODIFIED:20230123T141319Z
UID:4871-1681588800-1681601400@www.shorehamcentre.co.uk
SUMMARY:Diamond Dance -Modern Jive Evening
DESCRIPTION:
URL:https://www.shorehamcentre.co.uk/event/diamond-dance-modern-jive-evening-4/
ATTACH;FMTTYPE=image/jpeg:https://www.shorehamcentre.co.uk/wp-content/uploads/2020/06/Diamond-Dance-Image.jpg
END:VEVENT
BEGIN:VEVENT
DTSTART;TZID=Europe/London:20230318T200000
DTEND;TZID=Europe/London:20230318T233000
DTSTAMP:20260424T143126
CREATED:20230123T141142Z
LAST-MODIFIED:20230123T141142Z
UID:4869-1679169600-1679182200@www.shorehamcentre.co.uk
SUMMARY:Diamond Dance -Modern Jive Evening
DESCRIPTION:
URL:https://www.shorehamcentre.co.uk/event/diamond-dance-modern-jive-evening-3/
ATTACH;FMTTYPE=image/jpeg:https://www.shorehamcentre.co.uk/wp-content/uploads/2020/06/Diamond-Dance-Image.jpg
END:VEVENT
BEGIN:VEVENT
DTSTART;TZID=Europe/London:20230218T200000
DTEND;TZID=Europe/London:20230218T233000
DTSTAMP:20260424T143126
CREATED:20230123T141021Z
LAST-MODIFIED:20230123T141021Z
UID:4867-1676750400-1676763000@www.shorehamcentre.co.uk
SUMMARY:Diamond Dance -Modern Jive Evening
DESCRIPTION:
URL:https://www.shorehamcentre.co.uk/event/diamond-dance-modern-jive-evening-2/
ATTACH;FMTTYPE=image/jpeg:https://www.shorehamcentre.co.uk/wp-content/uploads/2020/06/Diamond-Dance-Image.jpg
END:VEVENT
BEGIN:VEVENT
DTSTART;TZID=Europe/London:20221001T200000
DTEND;TZID=Europe/London:20221001T233000
DTSTAMP:20260424T143126
CREATED:20220811T142701Z
LAST-MODIFIED:20220811T142701Z
UID:4584-1664654400-1664667000@www.shorehamcentre.co.uk
SUMMARY:Diamond Dance
DESCRIPTION:Modern Jive Freestyle Dance \nLarge Dance Floor and great mix of music
URL:https://www.shorehamcentre.co.uk/event/diamond-dance/
ATTACH;FMTTYPE=image/jpeg:https://www.shorehamcentre.co.uk/wp-content/uploads/2022/08/Saturday-Poster-pic.jpg
END:VEVENT
BEGIN:VEVENT
DTSTART;TZID=Europe/London:20220917T200000
DTEND;TZID=Europe/London:20220917T233000
DTSTAMP:20260424T143126
CREATED:20220811T140906Z
LAST-MODIFIED:20220811T140906Z
UID:4580-1663444800-1663457400@www.shorehamcentre.co.uk
SUMMARY:Diamond Dance Modern Jive
DESCRIPTION:Modern Jive Freestyle Dance \nLarge Dance Floor and great mix of music
URL:https://www.shorehamcentre.co.uk/event/diamond-dance-modern-jive/
LOCATION:Shoreham Centre\, 2 Pond Road\, Shoreham-by-Sea\, West-Sussex\, BN43 5WU\, United Kingdom
ATTACH;FMTTYPE=image/jpeg:https://www.shorehamcentre.co.uk/wp-content/uploads/2022/08/Saturday-Poster-pic.jpg
END:VEVENT
END:VCALENDAR