BEGIN:VCALENDAR
VERSION:2.0
PRODID:-//Shoreham Community Trust - ECPv6.5.0//NONSGML v1.0//EN
CALSCALE:GREGORIAN
METHOD:PUBLISH
X-ORIGINAL-URL:https://www.shorehamcentre.co.uk
X-WR-CALDESC:Events for Shoreham Community Trust
REFRESH-INTERVAL;VALUE=DURATION:PT1H
X-Robots-Tag:noindex
X-PUBLISHED-TTL:PT1H
BEGIN:VTIMEZONE
TZID:Europe/London
BEGIN:DAYLIGHT
TZOFFSETFROM:+0000
TZOFFSETTO:+0100
TZNAME:BST
DTSTART:20220327T010000
END:DAYLIGHT
BEGIN:STANDARD
TZOFFSETFROM:+0100
TZOFFSETTO:+0000
TZNAME:GMT
DTSTART:20221030T010000
END:STANDARD
BEGIN:DAYLIGHT
TZOFFSETFROM:+0000
TZOFFSETTO:+0100
TZNAME:BST
DTSTART:20230326T010000
END:DAYLIGHT
BEGIN:STANDARD
TZOFFSETFROM:+0100
TZOFFSETTO:+0000
TZNAME:GMT
DTSTART:20231029T010000
END:STANDARD
END:VTIMEZONE
BEGIN:VEVENT
DTSTART;TZID=Europe/London:20230429T093000
DTEND;TZID=Europe/London:20230429T233000
DTSTAMP:20260424T154914
CREATED:20230131T145052Z
LAST-MODIFIED:20230131T145052Z
UID:4927-1682760600-1682811000@www.shorehamcentre.co.uk
SUMMARY:Cheeki Monkeys Big Baby and Children Market
DESCRIPTION:The ULTIMATE INDOOR MARKET for your Children’s needs!\nCHEEKI MONKEYS is a children’s market where parents can buy or sell quality\, gently used babies’ and children’s toys\, clothes and equipment. Sellers keep every penny they make and buyers will discover a huge range of items at bargain prices. With many quality brands at a fraction of high street prices\, it’s a great event for savvy mums and dads.  All-in-all… an eco-friendly\, fun and cost-effective way of supporting local communities!\n \n\nDeal face-to-face with the seller and examine your goods before you buy.\nDo you need a kit of baby/toddler basics to keep at your house? Pick up everything you need for that new grandchild!\nPlease feel free to bring your children along\, there is a bouncy castle and a face makeup artist. The market is buggy friendly!!\n\nBook your Preloved\, Craft or Business Stall on our website\, or visit us to buy the best of our 32 stalls ! \ne
URL:https://www.shorehamcentre.co.uk/event/cheeki-monkeys-big-baby-and-children-market-3/
ATTACH;FMTTYPE=image/png:https://www.shorehamcentre.co.uk/wp-content/uploads/2021/12/cm.png
ORGANIZER;CN="Cheeki Monkeys":MAILTO:delphine.cheekimonkeys@gmail.com
END:VEVENT
BEGIN:VEVENT
DTSTART;TZID=Europe/London:20230318T093000
DTEND;TZID=Europe/London:20230318T233000
DTSTAMP:20260424T154914
CREATED:20230131T144947Z
LAST-MODIFIED:20230131T144947Z
UID:4925-1679131800-1679182200@www.shorehamcentre.co.uk
SUMMARY:Cheeki Monkeys Big Baby and Children Market
DESCRIPTION:The ULTIMATE INDOOR MARKET for your Children’s needs!\nCHEEKI MONKEYS is a children’s market where parents can buy or sell quality\, gently used babies’ and children’s toys\, clothes and equipment. Sellers keep every penny they make and buyers will discover a huge range of items at bargain prices. With many quality brands at a fraction of high street prices\, it’s a great event for savvy mums and dads.  All-in-all… an eco-friendly\, fun and cost-effective way of supporting local communities!\n \n\nDeal face-to-face with the seller and examine your goods before you buy.\nDo you need a kit of baby/toddler basics to keep at your house? Pick up everything you need for that new grandchild!\nPlease feel free to bring your children along\, there is a bouncy castle and a face makeup artist. The market is buggy friendly!!\n\nBook your Preloved\, Craft or Business Stall on our website\, or visit us to buy the best of our 32 stalls ! \ne
URL:https://www.shorehamcentre.co.uk/event/cheeki-monkeys-big-baby-and-children-market-2/
ATTACH;FMTTYPE=image/png:https://www.shorehamcentre.co.uk/wp-content/uploads/2021/12/cm.png
ORGANIZER;CN="Cheeki Monkeys":MAILTO:delphine.cheekimonkeys@gmail.com
END:VEVENT
BEGIN:VEVENT
DTSTART;TZID=Europe/London:20230204T100000
DTEND;TZID=Europe/London:20230204T233000
DTSTAMP:20260424T154914
CREATED:20221101T132246Z
LAST-MODIFIED:20230123T132300Z
UID:4664-1675504800-1675553400@www.shorehamcentre.co.uk
SUMMARY:Cheeki Monkeys Big Baby and Children Market
DESCRIPTION:The ULTIMATE INDOOR MARKET for your Children’s needs!\nCHEEKI MONKEYS is a children’s market where parents can buy or sell quality\, gently used babies’ and children’s toys\, clothes and equipment. Sellers keep every penny they make and buyers will discover a huge range of items at bargain prices. With many quality brands at a fraction of high street prices\, it’s a great event for savvy mums and dads.  All-in-all… an eco-friendly\, fun and cost-effective way of supporting local communities!\n \n\nDeal face-to-face with the seller and examine your goods before you buy.\nDo you need a kit of baby/toddler basics to keep at your house? Pick up everything you need for that new grandchild!\nPlease feel free to bring your children along\, there is a bouncy castle and a face makeup artist. The market is buggy friendly!!\n\nBook your Preloved\, Craft or Business Stall on our website\, or visit us to buy the best of our 32 stalls ! \ne
URL:https://www.shorehamcentre.co.uk/event/cheeki-monkeys-big-baby-and-children-market/
ATTACH;FMTTYPE=image/png:https://www.shorehamcentre.co.uk/wp-content/uploads/2021/12/cm.png
ORGANIZER;CN="Cheeki Monkeys":MAILTO:delphine.cheekimonkeys@gmail.com
END:VEVENT
BEGIN:VEVENT
DTSTART;TZID=Europe/London:20220924T100000
DTEND;TZID=Europe/London:20220924T113000
DTSTAMP:20260424T154914
CREATED:20220811T144548Z
LAST-MODIFIED:20220811T144548Z
UID:4592-1664013600-1664019000@www.shorehamcentre.co.uk
SUMMARY:Cheeki Monkeys Big Baby & Childrens Market
DESCRIPTION:INTRODUCTION: Our Nearly New Baby Sales are community events for local families to make money while recycling unwanted items. Buy or sell quality\, gently used babies’ and children’s toys\, clothes and equipment. Great events for savvy mums & dads! \nSELLERS: Declutter make some £££’s and keep 100% of your takings. \nBUYERS: Do you like great deals\, designer clothes & cheap prices? SAVE up to 90%! \n\n1000’s of pre-loved items with many quality brands at a fraction of high street prices.\nDeal face-to-face with the seller and examine your goods before you buy.\nAll-in-all… an eco-friendly\, fun and cost-effective way of supporting local communities.
URL:https://www.shorehamcentre.co.uk/event/cheeki-monkeys-big-baby-childrens-market/
ATTACH;FMTTYPE=image/png:https://www.shorehamcentre.co.uk/wp-content/uploads/2021/12/cm.png
ORGANIZER;CN="Cheeki Monkeys":MAILTO:delphine.cheekimonkeys@gmail.com
END:VEVENT
END:VCALENDAR