BEGIN:VCALENDAR
VERSION:2.0
PRODID:-//Shoreham Community Trust - ECPv6.5.0//NONSGML v1.0//EN
CALSCALE:GREGORIAN
METHOD:PUBLISH
X-WR-CALNAME:Shoreham Community Trust
X-ORIGINAL-URL:https://www.shorehamcentre.co.uk
X-WR-CALDESC:Events for Shoreham Community Trust
REFRESH-INTERVAL;VALUE=DURATION:PT1H
X-Robots-Tag:noindex
X-PUBLISHED-TTL:PT1H
BEGIN:VTIMEZONE
TZID:Europe/London
BEGIN:DAYLIGHT
TZOFFSETFROM:+0000
TZOFFSETTO:+0100
TZNAME:BST
DTSTART:20230326T010000
END:DAYLIGHT
BEGIN:STANDARD
TZOFFSETFROM:+0100
TZOFFSETTO:+0000
TZNAME:GMT
DTSTART:20231029T010000
END:STANDARD
END:VTIMEZONE
BEGIN:VEVENT
DTSTART;TZID=Europe/London:20231111T131500
DTEND;TZID=Europe/London:20231111T171500
DTSTAMP:20260424T193655
CREATED:20231107T151038Z
LAST-MODIFIED:20231107T151038Z
UID:5352-1699708500-1699722900@www.shorehamcentre.co.uk
SUMMARY:Barnardo's Activity Day
DESCRIPTION:Come and Join us for: \nFun sustainability themed games and activities \nCookie Decorating \nFace Painting \nEcobrick Workshop-Bring along a clean plastic bottle and any single use plastic \n  \nLearn more about what we do at Barnardos \nBook your place today at moving.forward@barnardo’s.org.uk
URL:https://www.shorehamcentre.co.uk/event/barnardos-activity-day/
ORGANIZER;CN="Barnardo's":MAILTO:moving.forward@barnardo&#039;s.org.uk
END:VEVENT
END:VCALENDAR