BEGIN:VCALENDAR
VERSION:2.0
PRODID:-//Shoreham Community Trust - ECPv6.5.0//NONSGML v1.0//EN
CALSCALE:GREGORIAN
METHOD:PUBLISH
X-WR-CALNAME:Shoreham Community Trust
X-ORIGINAL-URL:https://www.shorehamcentre.co.uk
X-WR-CALDESC:Events for Shoreham Community Trust
REFRESH-INTERVAL;VALUE=DURATION:PT1H
X-Robots-Tag:noindex
X-PUBLISHED-TTL:PT1H
BEGIN:VTIMEZONE
TZID:Europe/London
BEGIN:DAYLIGHT
TZOFFSETFROM:+0000
TZOFFSETTO:+0100
TZNAME:BST
DTSTART:20230326T010000
END:DAYLIGHT
BEGIN:STANDARD
TZOFFSETFROM:+0100
TZOFFSETTO:+0000
TZNAME:GMT
DTSTART:20231029T010000
END:STANDARD
BEGIN:DAYLIGHT
TZOFFSETFROM:+0000
TZOFFSETTO:+0100
TZNAME:BST
DTSTART:20240331T010000
END:DAYLIGHT
BEGIN:STANDARD
TZOFFSETFROM:+0100
TZOFFSETTO:+0000
TZNAME:GMT
DTSTART:20241027T010000
END:STANDARD
END:VTIMEZONE
BEGIN:VEVENT
DTSTART;TZID=Europe/London:20240420T181500
DTEND;TZID=Europe/London:20240420T230000
DTSTAMP:20260424T212641
CREATED:20240327T095830Z
LAST-MODIFIED:20240327T095830Z
UID:5531-1713636900-1713654000@www.shorehamcentre.co.uk
SUMMARY:Fundraising Ceilidh
DESCRIPTION:….with Polypolka\, English Folk Dance Band\, Ukrainian Voices\, Women’s Choir & Ukrainian Dance Workshop \nAll proceeds go to Ukrainian Charities \nOrganised by Adur Ukraine Support Association and Worthing4Refugees \n£12.50 in advance £15 on the door. Scan the QR code to book your ticket: \n \n 
URL:https://www.shorehamcentre.co.uk/event/fundraising-ceilidh/
END:VEVENT
BEGIN:VEVENT
DTSTART;TZID=Europe/London:20230207T193000
DTEND;TZID=Europe/London:20230207T213000
DTSTAMP:20260424T212641
CREATED:20230130T121111Z
LAST-MODIFIED:20230130T121111Z
UID:4914-1675798200-1675805400@www.shorehamcentre.co.uk
SUMMARY:Ukrainian Folk Dancing
DESCRIPTION:Come along and learn some Folk Dances \nEveryone is welcome
URL:https://www.shorehamcentre.co.uk/event/ukrainian-folk-dancing/
ATTACH;FMTTYPE=image/jpeg:https://www.shorehamcentre.co.uk/wp-content/uploads/2023/01/Ukrainian-Folk-Dancing-Website-Pic.jpg
END:VEVENT
END:VCALENDAR