BEGIN:VCALENDAR
VERSION:2.0
PRODID:-//Shoreham Community Trust - ECPv6.5.0//NONSGML v1.0//EN
CALSCALE:GREGORIAN
METHOD:PUBLISH
X-ORIGINAL-URL:https://www.shorehamcentre.co.uk
X-WR-CALDESC:Events for Shoreham Community Trust
REFRESH-INTERVAL;VALUE=DURATION:PT1H
X-Robots-Tag:noindex
X-PUBLISHED-TTL:PT1H
BEGIN:VTIMEZONE
TZID:Europe/London
BEGIN:DAYLIGHT
TZOFFSETFROM:+0000
TZOFFSETTO:+0100
TZNAME:BST
DTSTART:20230326T010000
END:DAYLIGHT
BEGIN:STANDARD
TZOFFSETFROM:+0100
TZOFFSETTO:+0000
TZNAME:GMT
DTSTART:20231029T010000
END:STANDARD
END:VTIMEZONE
BEGIN:VEVENT
DTSTART;TZID=Europe/London:20230415T100000
DTEND;TZID=Europe/London:20230415T160000
DTSTAMP:20260424T215340
CREATED:20230406T104016Z
LAST-MODIFIED:20230406T104016Z
UID:5062-1681552800-1681574400@www.shorehamcentre.co.uk
SUMMARY:Adur Art Club Tabletop Exhibition
DESCRIPTION:
URL:https://www.shorehamcentre.co.uk/event/adur-art-club-tabletop-exhibition/
ATTACH;FMTTYPE=image/webp:https://www.shorehamcentre.co.uk/wp-content/uploads/2023/04/Web-Image.webp
END:VEVENT
END:VCALENDAR