BEGIN:VCALENDAR
VERSION:2.0
PRODID:-//Shoreham Community Trust - ECPv6.5.0//NONSGML v1.0//EN
CALSCALE:GREGORIAN
METHOD:PUBLISH
X-WR-CALNAME:Shoreham Community Trust
X-ORIGINAL-URL:https://www.shorehamcentre.co.uk
X-WR-CALDESC:Events for Shoreham Community Trust
REFRESH-INTERVAL;VALUE=DURATION:PT1H
X-Robots-Tag:noindex
X-PUBLISHED-TTL:PT1H
BEGIN:VTIMEZONE
TZID:Europe/London
BEGIN:DAYLIGHT
TZOFFSETFROM:+0000
TZOFFSETTO:+0100
TZNAME:BST
DTSTART:20260329T010000
END:DAYLIGHT
BEGIN:STANDARD
TZOFFSETFROM:+0100
TZOFFSETTO:+0000
TZNAME:GMT
DTSTART:20261025T010000
END:STANDARD
END:VTIMEZONE
BEGIN:VEVENT
DTSTART;TZID=Europe/London:20260425T140000
DTEND;TZID=Europe/London:20260425T153000
DTSTAMP:20260425T014010
CREATED:20260330T090959Z
LAST-MODIFIED:20260401T141258Z
UID:62835-1777125600-1777131000@www.shorehamcentre.co.uk
SUMMARY:U3A Monthly Meeting - Keep Your Hat On
DESCRIPTION:“Keep your hat on” – A look at hats through the ages \nA presentation by Dr Janet Pennington \nWe wear hats to keep our heads warm\, but there are many other reasons for so doing. This colourful talk looks at hats in the past and sees how they have changed\, whether for warmth\, indications of status\, or fashion. If you have ever wondered how hats were made\, this talk will explain it. We will see some hat shops of the past. I will also bring along some of my own hats to wear and display. You might like to do the same! \nCost: Members: FREE | Non-members £4 (including refreshments) \nOrganiser: u3a \nEmail: info@shorehamandsouthwicku3a.org.uk \nWebsite:  https://shoreham-southwick.u3asite.uk
URL:https://www.shorehamcentre.co.uk/event/u3a-monthly-meeting-keep-your-hat-on/
LOCATION:Shoreham Centre\, 2 Pond Road\, Shoreham-by-Sea\, West-Sussex\, BN43 5WU\, United Kingdom
CATEGORIES:Meetups
ATTACH;FMTTYPE=image/jpeg:https://www.shorehamcentre.co.uk/wp-content/uploads/2026/03/April-Monthly-Meeting-from-zip.jpg
END:VEVENT
BEGIN:VEVENT
DTSTART;TZID=Europe/London:20260425T143000
DTEND;TZID=Europe/London:20260425T163000
DTSTAMP:20260425T014010
CREATED:20260319T145735Z
LAST-MODIFIED:20260319T153518Z
UID:62528-1777127400-1777134600@www.shorehamcentre.co.uk
SUMMARY:Celebrating Shakespeare: Love and Excess in Romeo and Juliet
DESCRIPTION:Professors Matt Dimmock and Andrew Hadfield from Sussex University will discuss how the play represents love and marriage\, and that dizzying speed of youthful experience. They will reflect on how well Shakespeare knew Italy and its customs\, and how much the play was designed to show off the author’s literary prowess and ambitions. \nTheir talk will be followed by a Q and A.\nRefreshments available. \nTickets are £10 and available online at shorehamwordfest.com \nLocation: QEII Room\, The Shoreham Centre
URL:https://www.shorehamcentre.co.uk/event/celebrating-shakespeare-love-and-excess-in-romeo-and-juliet/
LOCATION:Shoreham Centre\, 2 Pond Road\, Shoreham-by-Sea\, West-Sussex\, BN43 5WU\, United Kingdom
ATTACH;FMTTYPE=image/jpeg:https://www.shorehamcentre.co.uk/wp-content/uploads/2026/03/SC_Web_Event2_image.jpg
ORGANIZER;CN="Shoreham Wordfest":MAILTO:general@shorehamwordfest.com
END:VEVENT
BEGIN:VEVENT
DTSTART;TZID=Europe/London:20260425T193000
DTEND;TZID=Europe/London:20260425T230000
DTSTAMP:20260425T014010
CREATED:20260319T151231Z
LAST-MODIFIED:20260319T153414Z
UID:62532-1777145400-1777158000@www.shorehamcentre.co.uk
SUMMARY:Celebrating Shakespeare: Shakespeare Night Ceilidh Revels
DESCRIPTION:A night of celebration and merrymaking remembering the great Bard’s birthday. A ceilidh of country and courtly dances with a lively Ceilidh band and caller. Delicious rustic ploughman’s victuals and a tot of mead included. Come dressed for the occasion\, if you so desire! Everyone welcome.\nA night of delight and one for the diary. \nBar available. \nTickets are £18 adult\, 16s and under £10.  Available online at shorehamwordfest.com \nLocation: Main Hall\, The Shoreham Centre
URL:https://www.shorehamcentre.co.uk/event/celebrating-shakespeare-shakespeare-night-ceilidh-revels/
LOCATION:Shoreham Centre\, 2 Pond Road\, Shoreham-by-Sea\, West-Sussex\, BN43 5WU\, United Kingdom
ATTACH;FMTTYPE=image/jpeg:https://www.shorehamcentre.co.uk/wp-content/uploads/2026/03/SC_Web_Event3_image.jpg
ORGANIZER;CN="Shoreham Wordfest":MAILTO:general@shorehamwordfest.com
END:VEVENT
END:VCALENDAR