BEGIN:VCALENDAR
VERSION:2.0
PRODID:-//Shoreham Community Trust - ECPv6.5.0//NONSGML v1.0//EN
CALSCALE:GREGORIAN
METHOD:PUBLISH
X-WR-CALNAME:Shoreham Community Trust
X-ORIGINAL-URL:https://www.shorehamcentre.co.uk
X-WR-CALDESC:Events for Shoreham Community Trust
REFRESH-INTERVAL;VALUE=DURATION:PT1H
X-Robots-Tag:noindex
X-PUBLISHED-TTL:PT1H
BEGIN:VTIMEZONE
TZID:Europe/London
BEGIN:DAYLIGHT
TZOFFSETFROM:+0000
TZOFFSETTO:+0100
TZNAME:BST
DTSTART:20260329T010000
END:DAYLIGHT
BEGIN:STANDARD
TZOFFSETFROM:+0100
TZOFFSETTO:+0000
TZNAME:GMT
DTSTART:20261025T010000
END:STANDARD
END:VTIMEZONE
BEGIN:VEVENT
DTSTART;TZID=Europe/London:20260424T193000
DTEND;TZID=Europe/London:20260424T213000
DTSTAMP:20260424T163122
CREATED:20260319T124422Z
LAST-MODIFIED:20260319T153648Z
UID:62509-1777059000-1777066200@www.shorehamcentre.co.uk
SUMMARY:Celebrating Shakespeare: To Be Or Not To Be - One Man Play
DESCRIPTION:Actor and Director\, Ethan Taylor\, of This is My Theatre Company\, brings to life Shakespeare’s legacy through a new entertaining and informative one-man play. \nThe year is 1621. Five years after the playwright’s death and plans are afoot to collect his works in the first folio of ‘Mr William Shakespeare’s Comedies\, Histories & Tragedies’. Ethan plays real-life Shakespeare super-fan\, Isaac Jaggard\, of Jaggard & Son Printers and Publishers\, wrestling with the prospect of immortalising the Bard’s plays in print whilst honouring his hero’s brilliance.  Inspired by Janet Pressley’s talk ‘How Shakespeare Happened’. \nFollowed by a Q and A.\nBar available. \nTickets are £12 and available online at shorehamwordfest.com\nLocation: QEII Room\, The Shoreham Centre
URL:https://www.shorehamcentre.co.uk/event/to-be-or-not-to-be-one-man-play/
LOCATION:Shoreham Centre\, 2 Pond Road\, Shoreham-by-Sea\, West-Sussex\, BN43 5WU\, United Kingdom
ATTACH;FMTTYPE=image/jpeg:https://www.shorehamcentre.co.uk/wp-content/uploads/2026/03/SC_Web_Event1_image.jpg
ORGANIZER;CN="Shoreham Wordfest":MAILTO:general@shorehamwordfest.com
END:VEVENT
END:VCALENDAR