BEGIN:VCALENDAR
VERSION:2.0
PRODID:-//Shoreham Community Trust - ECPv6.5.0//NONSGML v1.0//EN
CALSCALE:GREGORIAN
METHOD:PUBLISH
X-WR-CALNAME:Shoreham Community Trust
X-ORIGINAL-URL:https://www.shorehamcentre.co.uk
X-WR-CALDESC:Events for Shoreham Community Trust
REFRESH-INTERVAL;VALUE=DURATION:PT1H
X-Robots-Tag:noindex
X-PUBLISHED-TTL:PT1H
BEGIN:VTIMEZONE
TZID:Europe/London
BEGIN:DAYLIGHT
TZOFFSETFROM:+0000
TZOFFSETTO:+0100
TZNAME:BST
DTSTART:20260329T010000
END:DAYLIGHT
BEGIN:STANDARD
TZOFFSETFROM:+0100
TZOFFSETTO:+0000
TZNAME:GMT
DTSTART:20261025T010000
END:STANDARD
END:VTIMEZONE
BEGIN:VEVENT
DTSTART;TZID=Europe/London:20260418T073000
DTEND;TZID=Europe/London:20260418T233000
DTSTAMP:20260425T001234
CREATED:20260204T131410Z
LAST-MODIFIED:20260204T131620Z
UID:61020-1776497400-1776555000@www.shorehamcentre.co.uk
SUMMARY:Disco Inferno - Too Darn Soulful
DESCRIPTION:Burn Baby Burn!  The Too Darn Soulful team come to The Shoreham Centre for the very first time. \nHaving just celebrated 20 years of Check Out The Groove and 12 Years of their Northern Soul night\, the team bring their large\, loyal following to The Shoreham Centre for a night of delicious disco. \n£10 Entry.  Tickets flying out the door from koko event tickets from TicketSource.
URL:https://www.shorehamcentre.co.uk/event/disco-inferno-too-darn-soulful/
LOCATION:Shoreham Centre\, 2 Pond Road\, Shoreham-by-Sea\, West-Sussex\, BN43 5WU\, United Kingdom
CATEGORIES:Music
ATTACH;FMTTYPE=image/png:https://www.shorehamcentre.co.uk/wp-content/uploads/2026/02/DISCO-INFERNO-April-18-.png
END:VEVENT
BEGIN:VEVENT
DTSTART;TZID=Europe/London:20260418T100000
DTEND;TZID=Europe/London:20260418T140000
DTSTAMP:20260425T001234
CREATED:20260216T111745Z
LAST-MODIFIED:20260216T112000Z
UID:61451-1776506400-1776520800@www.shorehamcentre.co.uk
SUMMARY:Shoreham Record Fair
DESCRIPTION:Saturday 18th April\, 10am-2pm. \n£1 Admission (with free 7″) from 10am-12pm \nFree admission after 12pm. \nVinyl\, CDs and Music Memorabilia \nTo sell your collection or to book a table\, please contact Carlos 07910018420 or shorehamrecordfair@gmail.com
URL:https://www.shorehamcentre.co.uk/event/shoreham-record-fair-4/
LOCATION:Shoreham Centre\, 2 Pond Road\, Shoreham-by-Sea\, West-Sussex\, BN43 5WU\, United Kingdom
CATEGORIES:Exhibitions
ATTACH;FMTTYPE=image/jpeg:https://www.shorehamcentre.co.uk/wp-content/uploads/2025/12/Record-Fair-April26-scaled.jpg
END:VEVENT
END:VCALENDAR