BEGIN:VCALENDAR
VERSION:2.0
PRODID:-//Shoreham Community Trust - ECPv6.5.0//NONSGML v1.0//EN
CALSCALE:GREGORIAN
METHOD:PUBLISH
X-WR-CALNAME:Shoreham Community Trust
X-ORIGINAL-URL:https://www.shorehamcentre.co.uk
X-WR-CALDESC:Events for Shoreham Community Trust
REFRESH-INTERVAL;VALUE=DURATION:PT1H
X-Robots-Tag:noindex
X-PUBLISHED-TTL:PT1H
BEGIN:VTIMEZONE
TZID:Europe/London
BEGIN:DAYLIGHT
TZOFFSETFROM:+0000
TZOFFSETTO:+0100
TZNAME:BST
DTSTART:20230326T010000
END:DAYLIGHT
BEGIN:STANDARD
TZOFFSETFROM:+0100
TZOFFSETTO:+0000
TZNAME:GMT
DTSTART:20231029T010000
END:STANDARD
END:VTIMEZONE
BEGIN:VEVENT
DTSTART;TZID=Europe/London:20230902T150000
DTEND;TZID=Europe/London:20230902T163000
DTSTAMP:20260424T131336
CREATED:20230804T115117Z
LAST-MODIFIED:20230804T115117Z
UID:5243-1693666800-1693672200@www.shorehamcentre.co.uk
SUMMARY:Monthly Life Drawing Sessions
DESCRIPTION:Life Drawing Sessions\n\nDay of the Week: 1st Saturday of the Month\n\n\n\nTime: 3-4.30pm\nPrice : £18\n  \n\n\n\nMonthly life drawing tutored classes and workshops run by Cath and Martina\, two local artists with experience in teaching in community groups and further education colleges. \nFacilitated by our connections with diverse life models\, we aim to provide sessions for all levels of experience\, where focus will be on connecting to the process of looking and drawing\, rather than the outcome. \nOur approach aims to support you in nurturing your inner artist and provide long term benefits in your personal creative practice through the foundation of drawing from life. \nWe’ll also make sure its fun! \nContact Information \nPhone No: 07786913404 (text only) \nEmail: cathwhiteoak@gmail.com \n\nInstagram: @shorehamdraw
URL:https://www.shorehamcentre.co.uk/event/monthly-life-drawing-sessions/2023-09-02/
ATTACH;FMTTYPE=image/jpeg:https://www.shorehamcentre.co.uk/wp-content/uploads/2023/01/wEBSITE-iMAGE-2-scaled.jpg
ORGANIZER;CN="Shoreham Draw":MAILTO:cathwhiteoak@gmail.com
END:VEVENT
END:VCALENDAR